BEGIN:VCALENDAR
VERSION:2.0
PRODID:-//https://www.cameronstation.org//NONSGML kigkonsult.se iCalcreator 2.41.71//
CALSCALE:GREGORIAN
METHOD:PUBLISH
UID:64646233-3538-4733-a531-393037353532
X-WR-CALNAME:JCal Pro Calendar
X-WR-CALDESC:Your online events calendar
X-WR-TIMEZONE:America/New_York
BEGIN:VTIMEZONE
TZID:America/New_York
TZUNTIL:20271107T060000Z
BEGIN:STANDARD
TZNAME:EST
DTSTART:20251102T020000
TZOFFSETFROM:-0400
TZOFFSETTO:-0500
RDATE:20261101T020000
END:STANDARD
BEGIN:DAYLIGHT
TZNAME:EDT
DTSTART:20260308T020000
TZOFFSETFROM:-0500
TZOFFSETTO:-0400
RDATE:20270314T020000
END:DAYLIGHT
END:VTIMEZONE
BEGIN:VEVENT
UID:20250604T103000UTC-7217vxuAWv@https://cameronstation.org/
DTSTAMP:20260423T162102Z
CATEGORIES:Fitness Center
DESCRIPTION:<p>Stretch &amp\; Core (Complimentary) - Mondays and Wednesdays
  10:30 - 11:30 am -&nbsp\;Multi-Purpose Court</p>\n<p>A focused abdominal 
 &amp\; core training session using a variety of tools\, which may include 
 stability balls\, BOSU\, medicine balls\, and weights integrated with rest
 orative stretch and flexibility.</p>
DTSTART;TZID=America/New_York:20250604T103000
DTEND;TZID=America/New_York:20250604T113000
RRULE:FREQ=WEEKLY;UNTIL=20260629T040000Z;INTERVAL=1;BYDAY=MO,WE
SUMMARY:Stretch and Core
URL:https://www.cameronstation.org/calendar/83-fitness-center/9240-stretch-
 and-core
X-ALT-DESC;FMTTYPE=TEXT/HTML:<p>Stretch &amp\; Core (Complimentary) - Monda
 ys and Wednesdays 10:30 - 11:30 am -&nbsp\;Multi-Purpose Court</p>\n<p>A f
 ocused abdominal &amp\; core training session using a variety of tools\, w
 hich may include stability balls\, BOSU\, medicine balls\, and weights int
 egrated with restorative stretch and flexibility.</p>
END:VEVENT
BEGIN:VEVENT
UID:20260429T120000UTC-2074lhIMO6@https://cameronstation.org/
DTSTAMP:20260423T162102Z
CATEGORIES:Fitness Center
DESCRIPTION:<p><span>The purpose of this day is to encourage individuals to
  take a 30-minute walk during their lunch hour and promote a healthier lif
 estyle. </span></p>\n<p><span>We have planned a community walk during lunc
 h on </span><span>Wednesday\, April 29\, 2026\, at 12:00 Noon.</span><span
 > The plan is to have everyone meet at the Gazebo around 11:45am (resident
 s may bring a coffee/water/snack for the walk) and head out at 12:00 Noon.
  </span></p>\n<p><span>This is a great way to connect with other fellow re
 sidents and enjoy the spring weather!</span></p>\n<p>&nbsp\;</p>
DTSTART;TZID=America/New_York:20260429T120000
DTEND;TZID=America/New_York:20260429T130000
SUMMARY:National Walk at Lunch Day - Cameron Station Blvd Gazebo
URL:https://www.cameronstation.org/calendar/83-fitness-center/10498-nationa
 l-walk-at-lunch-day-cameron-station-blvd-gazebo
X-ALT-DESC;FMTTYPE=TEXT/HTML:<p><span>The purpose of this day is to encoura
 ge individuals to take a 30-minute walk during their lunch hour and promot
 e a healthier lifestyle. </span></p>\n<p><span>We have planned a community
  walk during lunch on </span><span>Wednesday\, April 29\, 2026\, at 12:00 
 Noon.</span><span> The plan is to have everyone meet at the Gazebo around 
 11:45am (residents may bring a coffee/water/snack for the walk) and head o
 ut at 12:00 Noon. </span></p>\n<p><span>This is a great way to connect wit
 h other fellow residents and enjoy the spring weather!</span></p>\n<p>&nbs
 p\;</p>
END:VEVENT
BEGIN:VEVENT
UID:20250108T183000UTC-9044DSvv86@https://cameronstation.org/
DTSTAMP:20260423T162102Z
CATEGORIES:Fitness Center
DESCRIPTION:<p><strong>POMSQUAD Fitness Class Cancelled - Zumba Class will 
 take place in the Multi-Purpose Court.</strong></p>
DTSTART;TZID=America/New_York:20260429T183000
DTEND;TZID=America/New_York:20260429T193000
SUMMARY:POMSQUAD Fitness Class - Cancelled for Zumba
URL:https://www.cameronstation.org/calendar/83-fitness-center/9878-pomsquad
 -fitness-class
X-ALT-DESC;FMTTYPE=TEXT/HTML:<p><strong>POMSQUAD Fitness Class Cancelled - 
 Zumba Class will take place in the Multi-Purpose Court.</strong></p>
END:VEVENT
END:VCALENDAR
