BEGIN:VCALENDAR
VERSION:2.0
PRODID:-//https://www.cameronstation.org//NONSGML kigkonsult.se iCalcreator 2.41.71//
CALSCALE:GREGORIAN
METHOD:PUBLISH
UID:62393964-6339-4265-b661-376631333333
X-WR-CALNAME:JCal Pro Calendar
X-WR-CALDESC:Your online events calendar
X-WR-TIMEZONE:America/New_York
BEGIN:VTIMEZONE
TZID:America/New_York
TZUNTIL:20271107T060000Z
BEGIN:STANDARD
TZNAME:EST
DTSTART:20251102T020000
TZOFFSETFROM:-0400
TZOFFSETTO:-0500
RDATE:20261101T020000
END:STANDARD
BEGIN:DAYLIGHT
TZNAME:EDT
DTSTART:20260308T020000
TZOFFSETFROM:-0500
TZOFFSETTO:-0400
RDATE:20270314T020000
END:DAYLIGHT
END:VTIMEZONE
BEGIN:VEVENT
UID:20250604T103000UTC-7217vxuAWv@https://cameronstation.org/
DTSTAMP:20260423T175702Z
CATEGORIES:Fitness Center
DESCRIPTION:<p>Stretch &amp\; Core (Complimentary) - Mondays and Wednesdays
  10:30 - 11:30 am -&nbsp\;Multi-Purpose Court</p>\n<p>A focused abdominal 
 &amp\; core training session using a variety of tools\, which may include 
 stability balls\, BOSU\, medicine balls\, and weights integrated with rest
 orative stretch and flexibility.</p>
DTSTART;TZID=America/New_York:20250604T103000
DTEND;TZID=America/New_York:20250604T113000
RRULE:FREQ=WEEKLY;UNTIL=20260629T040000Z;INTERVAL=1;BYDAY=MO,WE
SUMMARY:Stretch and Core
URL:https://www.cameronstation.org/calendar/83-fitness-center/9240-stretch-
 and-core
X-ALT-DESC;FMTTYPE=TEXT/HTML:<p>Stretch &amp\; Core (Complimentary) - Monda
 ys and Wednesdays 10:30 - 11:30 am -&nbsp\;Multi-Purpose Court</p>\n<p>A f
 ocused abdominal &amp\; core training session using a variety of tools\, w
 hich may include stability balls\, BOSU\, medicine balls\, and weights int
 egrated with restorative stretch and flexibility.</p>
END:VEVENT
BEGIN:VEVENT
UID:20260316T120000UTC-4824VSSPtv@https://cameronstation.org/
DTSTAMP:20260423T175702Z
CATEGORIES:Advisories
DESCRIPTION:<p><strong><span>Due to incoming inclement weather\, the Manage
 ment Office will close at Noon today\, and the Fitness Center will close a
 t 3:00 pm today. All evening classes have been cancelled. Normal Cameron C
 lub hours should resume tomorrow\, at 4:45 am – weather permitting. </span
 ></strong></p>\n<p><strong><span>The Office Staff will work remotely and c
 an be reached at <a href='mailto:managers@cameronstation.org'>managers@cam
 eronstation.org</a> or via phone at 703-567-4881\, until 5:00 pm today. We
 ather permitting\, normal hours should resume Tuesday\, March 17\, at 9:00
  am. </span></strong></p>
DTSTART;TZID=America/New_York:20260316T120000
DTEND;TZID=America/New_York:20260316T120000
SUMMARY:Cameron Club Closing Early - Inclement Weather
URL:https://www.cameronstation.org/calendar/84-advisories/10447-cameron-clu
 b-closing-early-inclement-weather
X-ALT-DESC;FMTTYPE=TEXT/HTML:<p><strong><span>Due to incoming inclement wea
 ther\, the Management Office will close at Noon today\, and the Fitness Ce
 nter will close at 3:00 pm today. All evening classes have been cancelled.
  Normal Cameron Club hours should resume tomorrow\, at 4:45 am – weather p
 ermitting. </span></strong></p>\n<p><strong><span>The Office Staff will wo
 rk remotely and can be reached at <a href='mailto:managers@cameronstation.
 org'>managers@cameronstation.org</a> or via phone at 703-567-4881\, until 
 5:00 pm today. Weather permitting\, normal hours should resume Tuesday\, M
 arch 17\, at 9:00 am. </span></strong></p>
END:VEVENT
BEGIN:VEVENT
UID:20250106T183000UTC-1110oKfAAv@https://cameronstation.org/
DTSTAMP:20260423T175702Z
CATEGORIES:Fitness Center
DESCRIPTION:<p><strong>Vinyasa Flow Yoga has been cancelled due to the Came
 ron Club closing at 3:00 pm for inclement weather.&nbsp\;</strong></p>
DTSTART;TZID=America/New_York:20260316T183000
DTEND;TZID=America/New_York:20260316T193000
SUMMARY:Vinyasa Flow Yoga - Cancelled
URL:https://www.cameronstation.org/calendar/83-fitness-center/9495-vinyasa-
 flow-yoga
X-ALT-DESC;FMTTYPE=TEXT/HTML:<p><strong>Vinyasa Flow Yoga has been cancelle
 d due to the Cameron Club closing at 3:00 pm for inclement weather.&nbsp\;
 </strong></p>
END:VEVENT
BEGIN:VEVENT
UID:20260126T183000UTC-86985uW0pk@https://cameronstation.org/
DTSTAMP:20260423T175702Z
CATEGORIES:Condo Association
DESCRIPTION:<p>The meeting tonight has been reschueduled to meet via Zoom.&
 nbsp\;</p>
DTSTART;TZID=America/New_York:20260316T183000
DTEND;TZID=America/New_York:20260316T193000
SUMMARY:Condos at Cameron Station Blvd Board Meeting - Virtual
URL:https://www.cameronstation.org/calendar/68-csca-event-calendar/75-condo
 -association/10434-condos-at-cameron-station-blvd
X-ALT-DESC;FMTTYPE=TEXT/HTML:<p>The meeting tonight has been reschueduled t
 o meet via Zoom.&nbsp\;</p>
END:VEVENT
END:VCALENDAR
