BEGIN:VCALENDAR
VERSION:2.0
PRODID:-//https://www.cameronstation.org//NONSGML kigkonsult.se iCalcreator 2.41.71//
CALSCALE:GREGORIAN
METHOD:PUBLISH
UID:33303566-6364-4663-b731-333961643733
X-WR-CALNAME:JCal Pro Calendar
X-WR-CALDESC:Your online events calendar
X-WR-TIMEZONE:America/New_York
BEGIN:VTIMEZONE
TZID:America/New_York
TZUNTIL:20271107T060000Z
BEGIN:STANDARD
TZNAME:EST
DTSTART:20251102T020000
TZOFFSETFROM:-0400
TZOFFSETTO:-0500
RDATE:20261101T020000
END:STANDARD
BEGIN:DAYLIGHT
TZNAME:EDT
DTSTART:20260308T020000
TZOFFSETFROM:-0500
TZOFFSETTO:-0400
RDATE:20270314T020000
END:DAYLIGHT
END:VTIMEZONE
BEGIN:VEVENT
UID:20260126T100000UTC-7686GAENbo@https://cameronstation.org/
DTSTAMP:20260423T232306Z
CATEGORIES:Advisories
DESCRIPTION:<p><strong>Management Office Closed Monday</strong></p>\n<p><st
 rong>The Management Office is closed Monday\, January 26\, 2026</strong>. 
 Staff is working remotely. If you have any questions or need assistance\, 
 the Management team will be available via phone (703) 567-4881 or email at
  <a href='mailto:managers@cameronstation.org'>managers@cameronstation.org<
 /a>.&nbsp\;</p>\n<p><strong>Cameron Club Closed Monday</strong></p>\n<p><s
 trong>The Cameron Club will be closed on Monday\, January 26\, 2026</stron
 g>. We will notify residents of Tuesday's hours in advance.&nbsp\;</p>\n<p
 ><strong>Trash Services</strong></p>\n<p><strong>Trash Services are expect
 ed to be rescheduled</strong>. We will notify you of services as soon as p
 ossible.&nbsp\;</p>\n<p><strong>Shuttle Bus Services</strong></p>\n<p><str
 ong>There are no shuttle services today.</strong> When the federal governm
 ent is closed or closing early due to weather-related issues\,<strong> </s
 trong><span style='text-decoration: underline\;'><a href='https://nam04.sa
 felinks.protection.outlook.com/?url=https%3A%2F%2Ffs94ttqab.cc.rs6.net%2Ft
 n.jsp%3Ff%3D001XmjKwUtyGM0Tmw7DNaUp-do-fVZjfZv31GtOErv46XKxjf8NL--Vb3lAL7K
 xzNd_D8UT30ZGoJ6V2sHoB3kW795S35L0TPomSmKhK5cUZOLcvnG-m_vuI1e_dZiUu8BooBHXF
 aDjp7dp9CtdMgrSKP02UAwLDCGGGhu-jMhJR2O1Uuabxru8AJRel5eTCv7PX2nPNqBS2xzYsQC
 CKZZn1jqqI6HQ6V0ZbzAktgHWOTs%3D%26c%3DFf1gxnu2OWHgUugNtAYsf7XSg4Hsr6ARX-sC
 MpKuK2nprJqH7U8_ng%3D%3D%26ch%3DcDf8q_cSZRE7qAvqTXNytVImRMJCw0iWDMx5FZX02o
 uULM1r8nOpzw%3D%3D&amp\;data=05%7C02%7Cjmichel%40gocampmgmt.com%7C7b9274f5
 b4d34310c2bc08de5ad7747a%7Cca12f77d06a94c3b91bde66b6992fabb%7C0%7C0%7C6390
 48078606718541%7CUnknown%7CTWFpbGZsb3d8eyJFbXB0eU1hcGkiOnRydWUsIlYiOiIwLjA
 uMDAwMCIsIlAiOiJXaW4zMiIsIkFOIjoiTWFpbCIsIldUIjoyfQ%3D%3D%7C0%7C%7C%7C&amp
 \;sdata=M6pt3R%2FaGwTQYAC6rTb8cAAZEvh0IBlC0tUEdqZOIe8%3D&amp\;reserved=0'>
 <strong>click here</strong></a></span><strong> for the Office of Personnel
  Management (OPM) federal government closure/information link.&nbsp\;</str
 ong></p>
DTSTART;TZID=America/New_York:20260126T000000
DTEND;TZID=America/New_York:20260126T235959
SUMMARY:Cameron Club Closed - Inclement Weather
URL:https://www.cameronstation.org/calendar/84-advisories/10395-cameron-clu
 b-closed-inclement-weather
X-ALT-DESC;FMTTYPE=TEXT/HTML:<p><strong>Management Office Closed Monday</st
 rong></p>\n<p><strong>The Management Office is closed Monday\, January 26\
 , 2026</strong>. Staff is working remotely. If you have any questions or n
 eed assistance\, the Management team will be available via phone (703) 567
 -4881 or email at <a href='mailto:managers@cameronstation.org'>managers@ca
 meronstation.org</a>.&nbsp\;</p>\n<p><strong>Cameron Club Closed Monday</s
 trong></p>\n<p><strong>The Cameron Club will be closed on Monday\, January
  26\, 2026</strong>. We will notify residents of Tuesday's hours in advanc
 e.&nbsp\;</p>\n<p><strong>Trash Services</strong></p>\n<p><strong>Trash Se
 rvices are expected to be rescheduled</strong>. We will notify you of serv
 ices as soon as possible.&nbsp\;</p>\n<p><strong>Shuttle Bus Services</str
 ong></p>\n<p><strong>There are no shuttle services today.</strong> When th
 e federal government is closed or closing early due to weather-related iss
 ues\,<strong> </strong><span style='text-decoration: underline\;'><a href=
 'https://nam04.safelinks.protection.outlook.com/?url=https%3A%2F%2Ffs94ttq
 ab.cc.rs6.net%2Ftn.jsp%3Ff%3D001XmjKwUtyGM0Tmw7DNaUp-do-fVZjfZv31GtOErv46X
 Kxjf8NL--Vb3lAL7KxzNd_D8UT30ZGoJ6V2sHoB3kW795S35L0TPomSmKhK5cUZOLcvnG-m_vu
 I1e_dZiUu8BooBHXFaDjp7dp9CtdMgrSKP02UAwLDCGGGhu-jMhJR2O1Uuabxru8AJRel5eTCv
 7PX2nPNqBS2xzYsQCCKZZn1jqqI6HQ6V0ZbzAktgHWOTs%3D%26c%3DFf1gxnu2OWHgUugNtAY
 sf7XSg4Hsr6ARX-sCMpKuK2nprJqH7U8_ng%3D%3D%26ch%3DcDf8q_cSZRE7qAvqTXNytVImR
 MJCw0iWDMx5FZX02ouULM1r8nOpzw%3D%3D&amp\;data=05%7C02%7Cjmichel%40gocampmg
 mt.com%7C7b9274f5b4d34310c2bc08de5ad7747a%7Cca12f77d06a94c3b91bde66b6992fa
 bb%7C0%7C0%7C639048078606718541%7CUnknown%7CTWFpbGZsb3d8eyJFbXB0eU1hcGkiOn
 RydWUsIlYiOiIwLjAuMDAwMCIsIlAiOiJXaW4zMiIsIkFOIjoiTWFpbCIsIldUIjoyfQ%3D%3D
 %7C0%7C%7C%7C&amp\;sdata=M6pt3R%2FaGwTQYAC6rTb8cAAZEvh0IBlC0tUEdqZOIe8%3D&
 amp\;reserved=0'><strong>click here</strong></a></span><strong> for the Of
 fice of Personnel Management (OPM) federal government closure/information 
 link.&nbsp\;</strong></p>
END:VEVENT
BEGIN:VEVENT
UID:20250604T103000UTC-7217vxuAWv@https://cameronstation.org/
DTSTAMP:20260423T232306Z
CATEGORIES:Fitness Center
DTSTART;TZID=America/New_York:20260126T103000
DTEND;TZID=America/New_York:20260126T113000
SUMMARY:Stretch and Core - Cancelled
URL:https://www.cameronstation.org/calendar/83-fitness-center/9390-stretch-
 and-core
END:VEVENT
BEGIN:VEVENT
UID:20250106T183000UTC-1110oKfAAv@https://cameronstation.org/
DTSTAMP:20260423T232306Z
CATEGORIES:Fitness Center
DTSTART;TZID=America/New_York:20260126T183000
DTEND;TZID=America/New_York:20260126T193000
SUMMARY:Vinyasa Flow Yoga - Cancelled
URL:https://www.cameronstation.org/calendar/83-fitness-center/9488-vinyasa-
 flow-yoga
END:VEVENT
BEGIN:VEVENT
UID:20260126T183000UTC-86985uW0pk@https://cameronstation.org/
DTSTAMP:20260423T232306Z
CATEGORIES:Condo Association
DTSTART;TZID=America/New_York:20260126T183000
DTEND;TZID=America/New_York:20260126T193000
RRULE:FREQ=MONTHLY;UNTIL=20261221T050000Z;INTERVAL=1;BYDAY=MO;BYSETPOS=3
SUMMARY:Condos at Cameron Station Blvd Board Meeting
URL:https://www.cameronstation.org/calendar/68-csca-event-calendar/75-condo
 -association/10207-condos-at-cameron-station-blvd
END:VEVENT
BEGIN:VEVENT
UID:20260126T190000UTC-0099sgCuUV@https://cameronstation.org/
DTSTAMP:20260423T232306Z
CATEGORIES:Board & Committee Meetings
DESCRIPTION:<p>The Financial Advisory Committee typically meets on the Mond
 ay before the CSCA Board meeting at 7:00 pm\,&nbsp\;via virtual conference
 .&nbsp\; Please&nbsp\;<span style='text-decoration: underline\;'><a href='
 our-neighborhood/board-committees/financial-advisory-committee'>click&nbsp
 \;here</a></span>&nbsp\;for the meeting information.</p>
DTSTART;TZID=America/New_York:20260126T190000
DTEND;TZID=America/New_York:20260126T200000
RRULE:FREQ=MONTHLY;UNTIL=20271129T050000Z;INTERVAL=1;BYDAY=MO;BYSETPOS=-1
SUMMARY:Financial Advisory Committee Meeting
URL:https://www.cameronstation.org/calendar/68-csca-event-calendar/74-commi
 ttee-meetings/10361-financial-advisory-committee-meeting
X-ALT-DESC;FMTTYPE=TEXT/HTML:<p>The Financial Advisory Committee typically 
 meets on the Monday before the CSCA Board meeting at 7:00 pm\,&nbsp\;via v
 irtual conference.&nbsp\; Please&nbsp\;<span style='text-decoration: under
 line\;'><a href='our-neighborhood/board-committees/financial-advisory-comm
 ittee'>click&nbsp\;here</a></span>&nbsp\;for the meeting information.</p>
END:VEVENT
END:VCALENDAR
