BEGIN:VCALENDAR
VERSION:2.0
PRODID:-//https://www.cameronstation.org//NONSGML kigkonsult.se iCalcreator 2.41.71//
CALSCALE:GREGORIAN
METHOD:PUBLISH
UID:34333266-3931-4464-a266-653338393062
X-WR-CALNAME:JCal Pro Calendar
X-WR-CALDESC:Your online events calendar
X-WR-TIMEZONE:America/New_York
BEGIN:VTIMEZONE
TZID:America/New_York
TZUNTIL:20271107T060000Z
BEGIN:STANDARD
TZNAME:EST
DTSTART:20251102T020000
TZOFFSETFROM:-0400
TZOFFSETTO:-0500
RDATE:20261101T020000
END:STANDARD
BEGIN:DAYLIGHT
TZNAME:EDT
DTSTART:20260308T020000
TZOFFSETFROM:-0500
TZOFFSETTO:-0400
RDATE:20270314T020000
END:DAYLIGHT
END:VTIMEZONE
BEGIN:VEVENT
UID:20240101T103000EST-9139VSI28m@https://cameronstation.org/
DTSTAMP:20260424T124833Z
CATEGORIES:Fitness Center
DESCRIPTION:<p>Stretch &amp\; Core (Complimentary) - Mondays and Wednesdays
  10:30 - 11:30 am -&nbsp\;Multi-Purpose Court</p>\n<p>A focused abdominal 
 &amp\; core training session using a variety of tools\, which may include 
 stability balls\, BOSU\, medicine balls\, and weights integrated with rest
 orative stretch and flexibility.</p>
DTSTART;TZID=America/New_York:20240101T103000
DTEND;TZID=America/New_York:20240101T113000
RRULE:FREQ=WEEKLY;UNTIL=20250604T040000Z;INTERVAL=1;BYDAY=MO,WE
SUMMARY:Stretch and Core
URL:https://www.cameronstation.org/calendar/83-fitness-center/6103-stretch-
 and-core
X-ALT-DESC;FMTTYPE=TEXT/HTML:<p>Stretch &amp\; Core (Complimentary) - Monda
 ys and Wednesdays 10:30 - 11:30 am -&nbsp\;Multi-Purpose Court</p>\n<p>A f
 ocused abdominal &amp\; core training session using a variety of tools\, w
 hich may include stability balls\, BOSU\, medicine balls\, and weights int
 egrated with restorative stretch and flexibility.</p>
END:VEVENT
BEGIN:VEVENT
UID:20250108T183000UTC-9044DSvv86@https://cameronstation.org/
DTSTAMP:20260424T124833Z
CATEGORIES:Fitness Center
DESCRIPTION:<p><strong>POMSQUAD Fitness Class (Complimentary) - Wednesdays 
 6:30pm - 7:30pm - Multi-Purpose Court</strong></p>\n<p><a href='https://na
 m04.safelinks.protection.outlook.com/?url=https%3A%2F%2Fwww.pomsquadfitnes
 s.com%2F&amp\;data=05%7C02%7Ccamstati%40ciramail.com%7Cc2deb8c3a9f945a8de2
 f08dce31a3fb8%7Cda8e92af9afc403eab4f552d098fb354%7C0%7C0%7C638634949139294
 826%7CUnknown%7CTWFpbGZsb3d8eyJWIjoiMC4wLjAwMDAiLCJQIjoiV2luMzIiLCJBTiI6Ik
 1haWwiLCJXVCI6Mn0%3D%7C0%7C%7C%7C&amp\;sdata=wO%2BO5hvnJBuONpRi1E1ZFSAJwh9
 B8oNlRzKas%2BgFjI8%3D&amp\;reserved=0'>POMSQUAD™</a>&nbsp\;is a super fun\
 , immensely positive\, high energy dance fitness class! &nbsp\; You'll be 
 shaking your poms while prancing\, dancing\, bending\, and snapping to tod
 ay’s hits and yesterday’s favorites.&nbsp\; Inclusive\, encouraging\, and 
 easy to follow classes are designed to maximize caloric burn while strengt
 hening and toning the body.&nbsp\; Featuring a variety of dance styles and
  unique choreography\, there is something for every type of spirit leader 
 in each and every class.&nbsp\;LIVE THE DREAM. JOIN THE SQUAD!</p>
DTSTART;TZID=America/New_York:20250108T183000
DTEND;TZID=America/New_York:20250108T193000
RRULE:FREQ=WEEKLY;UNTIL=20260624T040000Z;INTERVAL=1;BYDAY=WE
SUMMARY:POMSQUAD Fitness Class
URL:https://www.cameronstation.org/calendar/83-fitness-center/8486-pomsquad
 -fitness-class
X-ALT-DESC;FMTTYPE=TEXT/HTML:<p><strong>POMSQUAD Fitness Class (Complimenta
 ry) - Wednesdays 6:30pm - 7:30pm - Multi-Purpose Court</strong></p>\n<p><a
  href='https://nam04.safelinks.protection.outlook.com/?url=https%3A%2F%2Fw
 ww.pomsquadfitness.com%2F&amp\;data=05%7C02%7Ccamstati%40ciramail.com%7Cc2
 deb8c3a9f945a8de2f08dce31a3fb8%7Cda8e92af9afc403eab4f552d098fb354%7C0%7C0%
 7C638634949139294826%7CUnknown%7CTWFpbGZsb3d8eyJWIjoiMC4wLjAwMDAiLCJQIjoiV
 2luMzIiLCJBTiI6Ik1haWwiLCJXVCI6Mn0%3D%7C0%7C%7C%7C&amp\;sdata=wO%2BO5hvnJB
 uONpRi1E1ZFSAJwh9B8oNlRzKas%2BgFjI8%3D&amp\;reserved=0'>POMSQUAD™</a>&nbsp
 \;is a super fun\, immensely positive\, high energy dance fitness class! &
 nbsp\; You'll be shaking your poms while prancing\, dancing\, bending\, an
 d snapping to today’s hits and yesterday’s favorites.&nbsp\; Inclusive\, e
 ncouraging\, and easy to follow classes are designed to maximize caloric b
 urn while strengthening and toning the body.&nbsp\; Featuring a variety of
  dance styles and unique choreography\, there is something for every type 
 of spirit leader in each and every class.&nbsp\;LIVE THE DREAM. JOIN THE S
 QUAD!</p>
END:VEVENT
BEGIN:VEVENT
UID:20250507T190000UTC-59130fr5VL@https://cameronstation.org/
DTSTAMP:20260424T124833Z
CATEGORIES:Civic Association
DESCRIPTION:<p><strong>Join Zoom Meeting</strong></p>\n<p><a href='https://
 nam04.safelinks.protection.outlook.com/?url=https%3A%2F%2Fus02web.zoom.us%
 2Fj%2F81363186440%3Fpwd%3DEQEWVF2P05v2xwW4xlw0VhLaTEINAa.1&amp\;data=05%7C
 02%7Cjmichel%40gocampmgmt.com%7Cf4280fd57f63422fda3808dd82b3995e%7Cca12f77
 d06a94c3b91bde66b6992fabb%7C0%7C0%7C638810430749206629%7CUnknown%7CTWFpbGZ
 sb3d8eyJFbXB0eU1hcGkiOnRydWUsIlYiOiIwLjAuMDAwMCIsIlAiOiJXaW4zMiIsIkFOIjoiT
 WFpbCIsIldUIjoyfQ%3D%3D%7C0%7C%7C%7C&amp\;sdata=Zh%2Bs0B2a0w%2Be5eMoNRMTOf
 x97WhMvW7aloiSgNi2Pfs%3D&amp\;reserved=0'></a><a href='https://us02web.zoo
 m.us/j/81363186440?pwd=EQEWVF2P05v2xwW4xlw0VhLaTEINAa.1'>https://us02web.z
 oom.us/j/81363186440?pwd=EQEWVF2P05v2xwW4xlw0VhLaTEINAa.1</a></p>\n<p><str
 ong>Meeting ID:</strong> 813 6318 6440</p>\n<p><strong>Passcode:</strong> 
 351023</p>\n<p><strong>Phone</strong>: +1 301-715-8592 (Washington DC)</p>
 \n<p><strong>AGENDA:&nbsp\;</strong></p>\n<p>1.&nbsp\;&nbsp\;&nbsp\;&nbsp\
 ;&nbsp\;&nbsp\;&nbsp\; <strong>Duke Street Planning Process</strong><stron
 g>:&nbsp\; Jose Delcid\,</strong> Urban Planner&nbsp\;III for the Departme
 nt of Planning &amp\; Zoning\, will discuss the Duke Street Planning Proce
 ss. This project was started this year and involves updates to the compreh
 ensive land use plan for the Duke Street Corridor from the former Landsmar
 k Mall to the King Street Metro. For more info\, go to: <a href='https://n
 am04.safelinks.protection.outlook.com/?url=https%3A%2F%2Fwww.alexandriava.
 gov%2FDukeStreetPlan&amp\;data=05%7C02%7Cjmichel%40gocampmgmt.com%7Cf4280f
 d57f63422fda3808dd82b3995e%7Cca12f77d06a94c3b91bde66b6992fabb%7C0%7C0%7C63
 8810430749240912%7CUnknown%7CTWFpbGZsb3d8eyJFbXB0eU1hcGkiOnRydWUsIlYiOiIwL
 jAuMDAwMCIsIlAiOiJXaW4zMiIsIkFOIjoiTWFpbCIsIldUIjoyfQ%3D%3D%7C0%7C%7C%7C&a
 mp\;sdata=9oKW4Lmw59PtW8OoJLcthdbpvyEfJaWH2WzeqRKNSl4%3D&amp\;reserved=0'>
 </a><a href='https://www.alexandriava.gov/DukeStreetPlan'>https://www.alex
 andriava.gov/DukeStreetPlan</a> . (<strong>7:00 – 7:30 pm</strong>)</p>\n<
 p>2.&nbsp\;&nbsp\;&nbsp\;&nbsp\;&nbsp\;&nbsp\;&nbsp\; <strong>Eco-City Hom
 es program and the Eco-Festival</strong><strong>:&nbsp\; Samantha Heitsch<
 /strong>\, Sustainability Coordinator for the Office of Climate Action\, w
 ill discuss the Eco-City Homes program and the Eco-Festival at Ben Brenman
  Park. The Eco-City Homes program provides information and resources for b
 eing sustainable at home. For more info\, go to: <a href='https://nam04.sa
 felinks.protection.outlook.com/?url=https%3A%2F%2Fwww.alexandriava.gov%2Fe
 co-city-alexandria%2Fprogram%2Feco-city-homes&amp\;data=05%7C02%7Cjmichel%
 40gocampmgmt.com%7Cf4280fd57f63422fda3808dd82b3995e%7Cca12f77d06a94c3b91bd
 e66b6992fabb%7C0%7C0%7C638810430749255213%7CUnknown%7CTWFpbGZsb3d8eyJFbXB0
 eU1hcGkiOnRydWUsIlYiOiIwLjAuMDAwMCIsIlAiOiJXaW4zMiIsIkFOIjoiTWFpbCIsIldUIj
 oyfQ%3D%3D%7C0%7C%7C%7C&amp\;sdata=ulMwjNrbaVJ991%2FTaV1wl2X5OjGVXURv2Witr
 LiFm0M%3D&amp\;reserved=0'></a><a href='https://www.alexandriava.gov/eco-c
 ity-alexandria/program/eco-city-homes'>https://www.alexandriava.gov/eco-ci
 ty-alexandria/program/eco-city-homes</a>. The Eco-City Festival is on May 
 10 from 10 AM to 2 PM at Ben Brenman Park and it is a free family-friendly
  event where you can take part in fun games and activities to learn more a
 bout environmentally friendly practices and interesting environmental prog
 rams happening in our City. For more info\, go to: <a href='https://nam04.
 safelinks.protection.outlook.com/?url=https%3A%2F%2Fwww.alexandriava.gov%2
 Feco-city-alexandria%2Feco-city-festival&amp\;data=05%7C02%7Cjmichel%40goc
 ampmgmt.com%7Cf4280fd57f63422fda3808dd82b3995e%7Cca12f77d06a94c3b91bde66b6
 992fabb%7C0%7C0%7C638810430749269889%7CUnknown%7CTWFpbGZsb3d8eyJFbXB0eU1hc
 GkiOnRydWUsIlYiOiIwLjAuMDAwMCIsIlAiOiJXaW4zMiIsIkFOIjoiTWFpbCIsIldUIjoyfQ%
 3D%3D%7C0%7C%7C%7C&amp\;sdata=QyBy4SBDPQDfd8XizzR0IHYYZrMpa070flUUk5NmbKU%
 3D&amp\;reserved=0'></a><a href='https://www.alexandriava.gov/eco-city-ale
 xandria/eco-city-festival'>https://www.alexandriava.gov/eco-city-alexandri
 a/eco-city-festival</a>. &nbsp\;(<strong>7:30 – 7:50 pm</strong>)</p>\n<p>
 3.&nbsp\;&nbsp\;&nbsp\;&nbsp\;&nbsp\;&nbsp\;&nbsp\; <strong>Updates on Cit
 y Programs and Redevelopment Matters Affecting Cameron Station</strong><st
 rong>: Sash Impastato</strong>\, First Vice President of the Civic Associa
 tion\, will provide updates on any current and significant City programs a
 nd redevelopment projects that will have an impact on Cameron Station. (<s
 trong>7:50 – 8:00 pm</strong>)</p>\n<p>We look forward to seeing you at th
 e CSCA Membership Meeting!</p>
DTSTART;TZID=America/New_York:20250507T190000
DTEND;TZID=America/New_York:20250507T200000
SUMMARY:Civic Association Meeting
URL:https://www.cameronstation.org/calendar/68-csca-event-calendar/73-civic
 -association/9108-civic-association-meeting
X-ALT-DESC;FMTTYPE=TEXT/HTML:<p><strong>Join Zoom Meeting</strong></p>\n<p>
 <a href='https://nam04.safelinks.protection.outlook.com/?url=https%3A%2F%2
 Fus02web.zoom.us%2Fj%2F81363186440%3Fpwd%3DEQEWVF2P05v2xwW4xlw0VhLaTEINAa.
 1&amp\;data=05%7C02%7Cjmichel%40gocampmgmt.com%7Cf4280fd57f63422fda3808dd8
 2b3995e%7Cca12f77d06a94c3b91bde66b6992fabb%7C0%7C0%7C638810430749206629%7C
 Unknown%7CTWFpbGZsb3d8eyJFbXB0eU1hcGkiOnRydWUsIlYiOiIwLjAuMDAwMCIsIlAiOiJX
 aW4zMiIsIkFOIjoiTWFpbCIsIldUIjoyfQ%3D%3D%7C0%7C%7C%7C&amp\;sdata=Zh%2Bs0B2
 a0w%2Be5eMoNRMTOfx97WhMvW7aloiSgNi2Pfs%3D&amp\;reserved=0'></a><a href='ht
 tps://us02web.zoom.us/j/81363186440?pwd=EQEWVF2P05v2xwW4xlw0VhLaTEINAa.1'>
 https://us02web.zoom.us/j/81363186440?pwd=EQEWVF2P05v2xwW4xlw0VhLaTEINAa.1
 </a></p>\n<p><strong>Meeting ID:</strong> 813 6318 6440</p>\n<p><strong>Pa
 sscode:</strong> 351023</p>\n<p><strong>Phone</strong>: +1 301-715-8592 (W
 ashington DC)</p>\n<p><strong>AGENDA:&nbsp\;</strong></p>\n<p>1.&nbsp\;&nb
 sp\;&nbsp\;&nbsp\;&nbsp\;&nbsp\;&nbsp\; <strong>Duke Street Planning Proce
 ss</strong><strong>:&nbsp\; Jose Delcid\,</strong> Urban Planner&nbsp\;III
  for the Department of Planning &amp\; Zoning\, will discuss the Duke Stre
 et Planning Process. This project was started this year and involves updat
 es to the comprehensive land use plan for the Duke Street Corridor from th
 e former Landsmark Mall to the King Street Metro. For more info\, go to: <
 a href='https://nam04.safelinks.protection.outlook.com/?url=https%3A%2F%2F
 www.alexandriava.gov%2FDukeStreetPlan&amp\;data=05%7C02%7Cjmichel%40gocamp
 mgmt.com%7Cf4280fd57f63422fda3808dd82b3995e%7Cca12f77d06a94c3b91bde66b6992
 fabb%7C0%7C0%7C638810430749240912%7CUnknown%7CTWFpbGZsb3d8eyJFbXB0eU1hcGki
 OnRydWUsIlYiOiIwLjAuMDAwMCIsIlAiOiJXaW4zMiIsIkFOIjoiTWFpbCIsIldUIjoyfQ%3D%
 3D%7C0%7C%7C%7C&amp\;sdata=9oKW4Lmw59PtW8OoJLcthdbpvyEfJaWH2WzeqRKNSl4%3D&
 amp\;reserved=0'></a><a href='https://www.alexandriava.gov/DukeStreetPlan'
 >https://www.alexandriava.gov/DukeStreetPlan</a> . (<strong>7:00 – 7:30 pm
 </strong>)</p>\n<p>2.&nbsp\;&nbsp\;&nbsp\;&nbsp\;&nbsp\;&nbsp\;&nbsp\; <st
 rong>Eco-City Homes program and the Eco-Festival</strong><strong>:&nbsp\; 
 Samantha Heitsch</strong>\, Sustainability Coordinator for the Office of C
 limate Action\, will discuss the Eco-City Homes program and the Eco-Festiv
 al at Ben Brenman Park. The Eco-City Homes program provides information an
 d resources for being sustainable at home. For more info\, go to: <a href=
 'https://nam04.safelinks.protection.outlook.com/?url=https%3A%2F%2Fwww.ale
 xandriava.gov%2Feco-city-alexandria%2Fprogram%2Feco-city-homes&amp\;data=0
 5%7C02%7Cjmichel%40gocampmgmt.com%7Cf4280fd57f63422fda3808dd82b3995e%7Cca1
 2f77d06a94c3b91bde66b6992fabb%7C0%7C0%7C638810430749255213%7CUnknown%7CTWF
 pbGZsb3d8eyJFbXB0eU1hcGkiOnRydWUsIlYiOiIwLjAuMDAwMCIsIlAiOiJXaW4zMiIsIkFOI
 joiTWFpbCIsIldUIjoyfQ%3D%3D%7C0%7C%7C%7C&amp\;sdata=ulMwjNrbaVJ991%2FTaV1w
 l2X5OjGVXURv2WitrLiFm0M%3D&amp\;reserved=0'></a><a href='https://www.alexa
 ndriava.gov/eco-city-alexandria/program/eco-city-homes'>https://www.alexan
 driava.gov/eco-city-alexandria/program/eco-city-homes</a>. The Eco-City Fe
 stival is on May 10 from 10 AM to 2 PM at Ben Brenman Park and it is a fre
 e family-friendly event where you can take part in fun games and activitie
 s to learn more about environmentally friendly practices and interesting e
 nvironmental programs happening in our City. For more info\, go to: <a hre
 f='https://nam04.safelinks.protection.outlook.com/?url=https%3A%2F%2Fwww.a
 lexandriava.gov%2Feco-city-alexandria%2Feco-city-festival&amp\;data=05%7C0
 2%7Cjmichel%40gocampmgmt.com%7Cf4280fd57f63422fda3808dd82b3995e%7Cca12f77d
 06a94c3b91bde66b6992fabb%7C0%7C0%7C638810430749269889%7CUnknown%7CTWFpbGZs
 b3d8eyJFbXB0eU1hcGkiOnRydWUsIlYiOiIwLjAuMDAwMCIsIlAiOiJXaW4zMiIsIkFOIjoiTW
 FpbCIsIldUIjoyfQ%3D%3D%7C0%7C%7C%7C&amp\;sdata=QyBy4SBDPQDfd8XizzR0IHYYZrM
 pa070flUUk5NmbKU%3D&amp\;reserved=0'></a><a href='https://www.alexandriava
 .gov/eco-city-alexandria/eco-city-festival'>https://www.alexandriava.gov/e
 co-city-alexandria/eco-city-festival</a>. &nbsp\;(<strong>7:30 – 7:50 pm</
 strong>)</p>\n<p>3.&nbsp\;&nbsp\;&nbsp\;&nbsp\;&nbsp\;&nbsp\;&nbsp\; <stro
 ng>Updates on City Programs and Redevelopment Matters Affecting Cameron St
 ation</strong><strong>: Sash Impastato</strong>\, First Vice President of 
 the Civic Association\, will provide updates on any current and significan
 t City programs and redevelopment projects that will have an impact on Cam
 eron Station. (<strong>7:50 – 8:00 pm</strong>)</p>\n<p>We look forward to
  seeing you at the CSCA Membership Meeting!</p>
END:VEVENT
BEGIN:VEVENT
UID:20240103T193000EST-6219MLR5B1@https://cameronstation.org/
DTSTAMP:20260424T124833Z
CATEGORIES:Board & Committee Meetings
DESCRIPTION:<p>The Activities &amp\; Events Planning Committee meetings are
  typically held on the first Wednesday of each month\, via virtual confere
 nce.&nbsp\;Please click&nbsp\;<a href='our-neighborhood/board-committees/a
 ctivities-events-planning-committee'>here</a>&nbsp\;for meeting informatio
 n.</p>
DTSTART;TZID=America/New_York:20240103T193000
DTEND;TZID=America/New_York:20240103T203000
RRULE:FREQ=MONTHLY;UNTIL=20260603T040000Z;INTERVAL=1;BYDAY=WE;BYSETPOS=1
SUMMARY:Activities & Events Planning Committee Meeting
URL:https://www.cameronstation.org/calendar/68-csca-event-calendar/74-commi
 ttee-meetings/6222-activities-events-planning-committee-meeting
X-ALT-DESC;FMTTYPE=TEXT/HTML:<p>The Activities &amp\; Events Planning Commi
 ttee meetings are typically held on the first Wednesday of each month\, vi
 a virtual conference.&nbsp\;Please click&nbsp\;<a href='our-neighborhood/b
 oard-committees/activities-events-planning-committee'>here</a>&nbsp\;for m
 eeting information.</p>
END:VEVENT
END:VCALENDAR
