BEGIN:VCALENDAR
VERSION:2.0
PRODID:-//https://www.cameronstation.org//NONSGML kigkonsult.se iCalcreator 2.41.71//
CALSCALE:GREGORIAN
METHOD:PUBLISH
UID:37653136-6363-4437-b935-393066306237
X-WR-CALNAME:JCal Pro Calendar
X-WR-CALDESC:Your online events calendar
X-WR-TIMEZONE:America/New_York
BEGIN:VTIMEZONE
TZID:America/New_York
TZUNTIL:20271107T060000Z
BEGIN:STANDARD
TZNAME:EST
DTSTART:20251102T020000
TZOFFSETFROM:-0400
TZOFFSETTO:-0500
RDATE:20261101T020000
END:STANDARD
BEGIN:DAYLIGHT
TZNAME:EDT
DTSTART:20260308T020000
TZOFFSETFROM:-0500
TZOFFSETTO:-0400
RDATE:20270314T020000
END:DAYLIGHT
END:VTIMEZONE
BEGIN:VEVENT
UID:20250331T100000UTC-1895AvGmo5@https://cameronstation.org/
DTSTAMP:20260424T153506Z
CATEGORIES:Local Events
DESCRIPTION:<p><strong>Location:</strong>&nbsp\;Beatley Central Library<br 
 /> <strong>General Public Sale:</strong>&nbsp\;Begins Wednesday\, March 26
 \, at 10:00 am and runs through&nbsp\; Monday\, March 31\, at 3:00 pm.</p>
 \n<p><strong>Special Discount Days:</strong></p>\n<ul>\n<li>Sunday\, March
  30 | 1:00 pm – 4:30&nbsp\;pm&nbsp\;– Half-Price Day</li>\n<li>Monday\, Ma
 rch 31 | 10:00 am – 3:00&nbsp\;pm&nbsp\;– $10 Bag Sale (Fill a signature F
 riends canvas bag with books—and keep the bag!)</li>\n</ul>\n<p>All items 
 for sale have been generously donated by supporters like you. Every dollar
  raised helps fund innovative programs\, expanded collections\, and state-
 of-the-art technology for the library. <a href='https://www.beatleyfriends
 .org/booksale'>Click here</a> for more information!&nbsp\;</p>
DTSTART;TZID=America/New_York:20250331T100000
DTEND;TZID=America/New_York:20250331T150000
SUMMARY:Beatley Library Spring Book Sale
URL:https://www.cameronstation.org/calendar/86-local-events/9095-beatley-li
 brary-spring-book-sale
X-ALT-DESC;FMTTYPE=TEXT/HTML:<p><strong>Location:</strong>&nbsp\;Beatley Ce
 ntral Library<br /> <strong>General Public Sale:</strong>&nbsp\;Begins Wed
 nesday\, March 26\, at 10:00 am and runs through&nbsp\; Monday\, March 31\
 , at 3:00 pm.</p>\n<p><strong>Special Discount Days:</strong></p>\n<ul>\n<
 li>Sunday\, March 30 | 1:00 pm – 4:30&nbsp\;pm&nbsp\;– Half-Price Day</li>
 \n<li>Monday\, March 31 | 10:00 am – 3:00&nbsp\;pm&nbsp\;– $10 Bag Sale (F
 ill a signature Friends canvas bag with books—and keep the bag!)</li>\n</u
 l>\n<p>All items for sale have been generously donated by supporters like 
 you. Every dollar raised helps fund innovative programs\, expanded collect
 ions\, and state-of-the-art technology for the library. <a href='https://w
 ww.beatleyfriends.org/booksale'>Click here</a> for more information!&nbsp\
 ;</p>
END:VEVENT
BEGIN:VEVENT
UID:20240101T103000EST-9139VSI28m@https://cameronstation.org/
DTSTAMP:20260424T153506Z
CATEGORIES:Fitness Center
DESCRIPTION:<p>Stretch &amp\; Core (Complimentary) - Mondays and Wednesdays
  10:30 - 11:30 am -&nbsp\;Multi-Purpose Court</p>\n<p>A focused abdominal 
 &amp\; core training session using a variety of tools\, which may include 
 stability balls\, BOSU\, medicine balls\, and weights integrated with rest
 orative stretch and flexibility.</p>
DTSTART;TZID=America/New_York:20240101T103000
DTEND;TZID=America/New_York:20240101T113000
RRULE:FREQ=WEEKLY;UNTIL=20250604T040000Z;INTERVAL=1;BYDAY=MO,WE
SUMMARY:Stretch and Core
URL:https://www.cameronstation.org/calendar/83-fitness-center/6103-stretch-
 and-core
X-ALT-DESC;FMTTYPE=TEXT/HTML:<p>Stretch &amp\; Core (Complimentary) - Monda
 ys and Wednesdays 10:30 - 11:30 am -&nbsp\;Multi-Purpose Court</p>\n<p>A f
 ocused abdominal &amp\; core training session using a variety of tools\, w
 hich may include stability balls\, BOSU\, medicine balls\, and weights int
 egrated with restorative stretch and flexibility.</p>
END:VEVENT
BEGIN:VEVENT
UID:20250106T183000UTC-1110oKfAAv@https://cameronstation.org/
DTSTAMP:20260424T153506Z
CATEGORIES:Fitness Center
DESCRIPTION:<p><strong>Vinyasa Flow Yoga (Complimentary) – Mondays 6:30 pm 
 – 7:30 pm – Victoria Hebert Great Room</strong></p>\n<p>Vinyasa yoga\, in 
 which movement is synchronized to the breath\, is a term that covers a bro
 ad range of yoga classes. This style is sometimes also called flow yoga\, 
 because of the smooth way that the poses run together and become like a da
 nce.</p>\n<p>The breath acts as an anchor to the movement as you flow from
  one pose to the next in time with an inhale or an exhale.</p>
DTSTART;TZID=America/New_York:20250113T183000
DTEND;TZID=America/New_York:20250113T193000
RRULE:FREQ=WEEKLY;UNTIL=20260629T040000Z;INTERVAL=1;BYDAY=MO
SUMMARY:Vinyasa Flow Yoga
URL:https://www.cameronstation.org/calendar/83-fitness-center/8171-vinyasa-
 flow-yoga
X-ALT-DESC;FMTTYPE=TEXT/HTML:<p><strong>Vinyasa Flow Yoga (Complimentary) –
  Mondays 6:30 pm – 7:30 pm – Victoria Hebert Great Room</strong></p>\n<p>V
 inyasa yoga\, in which movement is synchronized to the breath\, is a term 
 that covers a broad range of yoga classes. This style is sometimes also ca
 lled flow yoga\, because of the smooth way that the poses run together and
  become like a dance.</p>\n<p>The breath acts as an anchor to the movement
  as you flow from one pose to the next in time with an inhale or an exhale
 .</p>
END:VEVENT
END:VCALENDAR
