BEGIN:VCALENDAR
VERSION:2.0
PRODID:-//https://www.cameronstation.org//NONSGML kigkonsult.se iCalcreator 2.41.71//
CALSCALE:GREGORIAN
METHOD:PUBLISH
UID:36333732-3138-4135-b366-643331323835
X-WR-CALNAME:JCal Pro Calendar
X-WR-CALDESC:Your online events calendar
X-WR-TIMEZONE:America/New_York
BEGIN:VTIMEZONE
TZID:America/New_York
TZUNTIL:20271107T060000Z
BEGIN:STANDARD
TZNAME:EST
DTSTART:20251102T020000
TZOFFSETFROM:-0400
TZOFFSETTO:-0500
RDATE:20261101T020000
END:STANDARD
BEGIN:DAYLIGHT
TZNAME:EDT
DTSTART:20260308T020000
TZOFFSETFROM:-0500
TZOFFSETTO:-0400
RDATE:20270314T020000
END:DAYLIGHT
END:VTIMEZONE
BEGIN:VEVENT
UID:20250325T100000UTC-4674iCXcMF@https://cameronstation.org/
DTSTAMP:20260424T161718Z
CATEGORIES:Local Events
DESCRIPTION:<p><strong>Location:</strong>&nbsp\;Beatley Central Library<br 
 /> <strong>General Public Sale:</strong>&nbsp\;Begins Wednesday\, March 26
 \, at 10:00 am and runs through&nbsp\; Monday\, March 31\, at 3:00 pm.</p>
 \n<ul>\n<li>Wednesday\, March 26 | 10:00 am – 7:30&nbsp\;pm</li>\n<li>Thur
 sday\, March 27 | 10:00 am – 7:30&nbsp\;pm</li>\n<li>Friday\, March 28 | 1
 0:00 am – 4:30&nbsp\;pm</li>\n<li>Saturday\, March 29 | 10:00 am – 4:30&nb
 sp\;pm</li>\n</ul>\n<p><strong>Special Discount Days:</strong></p>\n<ul>\n
 <li>Sunday\, March 30 | 1:00 pm – 4:30&nbsp\;pm&nbsp\;– Half-Price Day</li
 >\n<li>Monday\, March 31 | 10:00 am – 3:00&nbsp\;pm&nbsp\;– $10 Bag Sale (
 Fill a signature Friends canvas bag with books—and keep the bag!)</li>\n</
 ul>\n<p>All items for sale have been generously donated by supporters like
  you. Every dollar raised helps fund innovative programs\, expanded collec
 tions\, and state-of-the-art technology for the library. <span style='text
 -decoration: underline\;'><a href='https://www.beatleyfriends.org/booksale
 '>Click here</a></span> for more information!&nbsp\;</p>
DTSTART;TZID=America/New_York:20250326T100000
DTEND;TZID=America/New_York:20250329T163000
SUMMARY:Beatley Library Spring Book Sale
URL:https://www.cameronstation.org/calendar/86-local-events/9043-beatley-li
 brary-spring-book-sale
X-ALT-DESC;FMTTYPE=TEXT/HTML:<p><strong>Location:</strong>&nbsp\;Beatley Ce
 ntral Library<br /> <strong>General Public Sale:</strong>&nbsp\;Begins Wed
 nesday\, March 26\, at 10:00 am and runs through&nbsp\; Monday\, March 31\
 , at 3:00 pm.</p>\n<ul>\n<li>Wednesday\, March 26 | 10:00 am – 7:30&nbsp\;
 pm</li>\n<li>Thursday\, March 27 | 10:00 am – 7:30&nbsp\;pm</li>\n<li>Frid
 ay\, March 28 | 10:00 am – 4:30&nbsp\;pm</li>\n<li>Saturday\, March 29 | 1
 0:00 am – 4:30&nbsp\;pm</li>\n</ul>\n<p><strong>Special Discount Days:</st
 rong></p>\n<ul>\n<li>Sunday\, March 30 | 1:00 pm – 4:30&nbsp\;pm&nbsp\;– H
 alf-Price Day</li>\n<li>Monday\, March 31 | 10:00 am – 3:00&nbsp\;pm&nbsp\
 ;– $10 Bag Sale (Fill a signature Friends canvas bag with books—and keep t
 he bag!)</li>\n</ul>\n<p>All items for sale have been generously donated b
 y supporters like you. Every dollar raised helps fund innovative programs\
 , expanded collections\, and state-of-the-art technology for the library. 
 <span style='text-decoration: underline\;'><a href='https://www.beatleyfri
 ends.org/booksale'>Click here</a></span> for more information!&nbsp\;</p>
END:VEVENT
BEGIN:VEVENT
UID:20250102T090000UTC-5448v5PCsE@https://cameronstation.org/
DTSTAMP:20260424T161718Z
CATEGORIES:Fitness Center
DESCRIPTION:<p><strong>Gentle Yoga (Complimentary) - Thursdays 9:00 - 10:00
  am - Victoria Hebert Great Room</strong></p>\n<p>Gentle yoga classes are 
 typically described as appropriate for those who want a softer\, nurturing
 \, slow-paced\, well-supported and relaxing practice. The approach include
 s carefully orchestrated movements\, controlled pressure\, and well-measur
 ed stretches\, including range of motion exercises. Postures may be approa
 ched in gradual steps\, with plenty of time to focus on breathing and repe
 tition so that the practice is simple to do and easy to remember. A gentle
  yoga style encourages a highly individualized approach to practice with o
 n-going encouragement to make moment-to-moment adjustments.</p>
DTSTART;TZID=America/New_York:20250102T090000
DTEND;TZID=America/New_York:20250102T100000
RRULE:FREQ=WEEKLY;UNTIL=20260625T040000Z;INTERVAL=1;BYDAY=TH
SUMMARY:Gentle Yoga
URL:https://www.cameronstation.org/calendar/83-fitness-center/8223-gentle-y
 oga
X-ALT-DESC;FMTTYPE=TEXT/HTML:<p><strong>Gentle Yoga (Complimentary) - Thurs
 days 9:00 - 10:00 am - Victoria Hebert Great Room</strong></p>\n<p>Gentle 
 yoga classes are typically described as appropriate for those who want a s
 ofter\, nurturing\, slow-paced\, well-supported and relaxing practice. The
  approach includes carefully orchestrated movements\, controlled pressure\
 , and well-measured stretches\, including range of motion exercises. Postu
 res may be approached in gradual steps\, with plenty of time to focus on b
 reathing and repetition so that the practice is simple to do and easy to r
 emember. A gentle yoga style encourages a highly individualized approach t
 o practice with on-going encouragement to make moment-to-moment adjustment
 s.</p>
END:VEVENT
BEGIN:VEVENT
UID:20250102T183000UTC-6828772T7c@https://cameronstation.org/
DTSTAMP:20260424T161718Z
CATEGORIES:Fitness Center
DESCRIPTION:<p>Boot Camp (Complimentary) - Tuesdays and Thursdays 6:30-7:30
 pm -&nbsp\;Multi-Purpose Court</p>
DTSTART;TZID=America/New_York:20250102T183000
DTEND;TZID=America/New_York:20250102T193000
RRULE:FREQ=WEEKLY;UNTIL=20260528T040000Z;INTERVAL=1;BYDAY=TU,TH
SUMMARY:Boot Camp
URL:https://www.cameronstation.org/calendar/83-fitness-center/8274-boot-cam
 p
X-ALT-DESC;FMTTYPE=TEXT/HTML:<p>Boot Camp (Complimentary) - Tuesdays and Th
 ursdays 6:30-7:30pm -&nbsp\;Multi-Purpose Court</p>
END:VEVENT
END:VCALENDAR
