BEGIN:VCALENDAR
VERSION:2.0
PRODID:-//https://www.cameronstation.org//NONSGML kigkonsult.se iCalcreator 2.41.71//
CALSCALE:GREGORIAN
METHOD:PUBLISH
UID:31386163-6264-4735-b263-623933646235
X-WR-CALNAME:JCal Pro Calendar
X-WR-CALDESC:Your online events calendar
X-WR-TIMEZONE:America/New_York
BEGIN:VTIMEZONE
TZID:America/New_York
TZUNTIL:20271107T060000Z
BEGIN:STANDARD
TZNAME:EST
DTSTART:20251102T020000
TZOFFSETFROM:-0400
TZOFFSETTO:-0500
RDATE:20261101T020000
END:STANDARD
BEGIN:DAYLIGHT
TZNAME:EDT
DTSTART:20260308T020000
TZOFFSETFROM:-0500
TZOFFSETTO:-0400
RDATE:20270314T020000
END:DAYLIGHT
END:VTIMEZONE
BEGIN:VEVENT
UID:20240101T103000EST-9139VSI28m@https://cameronstation.org/
DTSTAMP:20260424T193106Z
CATEGORIES:Fitness Center
DESCRIPTION:<p>Stretch &amp\; Core is canceled today due to inclement weath
 er.&nbsp\;</p>
DTSTART;TZID=America/New_York:20250106T103000
DTEND;TZID=America/New_York:20250106T113000
SUMMARY:Stretch and Core - Canceled!
URL:https://www.cameronstation.org/calendar/83-fitness-center/8760-stretch-
 and-core
X-ALT-DESC;FMTTYPE=TEXT/HTML:<p>Stretch &amp\; Core is canceled today due t
 o inclement weather.&nbsp\;</p>
END:VEVENT
BEGIN:VEVENT
UID:20250106T183000UTC-2056SrJVpf@https://cameronstation.org/
DTSTAMP:20260424T193106Z
CATEGORIES:Fitness Center
DESCRIPTION:<p>Vinyasa Yoga is canceled today due to inclement weather.</p>
DTSTART;TZID=America/New_York:20250106T183000
DTEND;TZID=America/New_York:20250106T193000
SUMMARY:Vinyasa Flow Yoga - Canceled!
URL:https://www.cameronstation.org/calendar/83-fitness-center/8956-vinyasa-
 flow-yoga-canceled
X-ALT-DESC;FMTTYPE=TEXT/HTML:<p>Vinyasa Yoga is canceled today due to incle
 ment weather.</p>
END:VEVENT
END:VCALENDAR
