BEGIN:VCALENDAR
VERSION:2.0
PRODID:-//https://www.cameronstation.org//NONSGML kigkonsult.se iCalcreator 2.41.71//
CALSCALE:GREGORIAN
METHOD:PUBLISH
UID:61633363-3935-4334-b162-643366323437
X-WR-CALNAME:JCal Pro Calendar
X-WR-CALDESC:Your online events calendar
X-WR-TIMEZONE:America/New_York
BEGIN:VTIMEZONE
TZID:America/New_York
TZUNTIL:20271107T060000Z
BEGIN:STANDARD
TZNAME:EST
DTSTART:20251102T020000
TZOFFSETFROM:-0400
TZOFFSETTO:-0500
RDATE:20261101T020000
END:STANDARD
BEGIN:DAYLIGHT
TZNAME:EDT
DTSTART:20260308T020000
TZOFFSETFROM:-0500
TZOFFSETTO:-0400
RDATE:20270314T020000
END:DAYLIGHT
END:VTIMEZONE
BEGIN:VEVENT
UID:20241005T090000UTC-3563AVl3fS@https://cameronstation.org/
DTSTAMP:20260425T010449Z
CATEGORIES:Fitness Center
DESCRIPTION:<p><strong><strong>(Complimentary) - Saturdays&nbsp\;</strong>9
 :00 am- 10:00 am -&nbsp\;Multipurpose Court</strong></p>\n<p>Saturday\, Oc
 tober 26\, 2024 - No Zumba Class\, PomSquad FItness will be offered instea
 d at 9:00 AM in the Multipurpose Court.</p>
DTSTART;TZID=America/New_York:20241026T090000
DTEND;TZID=America/New_York:20241026T100000
SUMMARY:Zumba Canceled for POMSQUAD Fitness Class
URL:https://www.cameronstation.org/calendar/83-fitness-center/7225-zumba
X-ALT-DESC;FMTTYPE=TEXT/HTML:<p><strong><strong>(Complimentary) - Saturdays
 &nbsp\;</strong>9:00 am- 10:00 am -&nbsp\;Multipurpose Court</strong></p>
 \n<p>Saturday\, October 26\, 2024 - No Zumba Class\, PomSquad FItness will
  be offered instead at 9:00 AM in the Multipurpose Court.</p>
END:VEVENT
BEGIN:VEVENT
UID:20241026T110000UTC-3728xwsgVz@https://cameronstation.org/
DTSTAMP:20260425T010449Z
CATEGORIES:CSCA Event Calendar
DESCRIPTION:<p>Cameron Station's Halloween Party is scheduled for Saturday\
 , October 26\, 2024\, from 11:00 am to 1:00 pm.&nbsp\;</p>\n<p>More detail
 s to come!</p>
DTSTART;TZID=America/New_York:20241026T110000
DTEND;TZID=America/New_York:20241026T130000
SUMMARY:Halloween Party
URL:https://www.cameronstation.org/calendar/68-csca-event-calendar/6767-hal
 loween-party
X-ALT-DESC;FMTTYPE=TEXT/HTML:<p>Cameron Station's Halloween Party is schedu
 led for Saturday\, October 26\, 2024\, from 11:00 am to 1:00 pm.&nbsp\;</p
 >\n<p>More details to come!</p>
END:VEVENT
END:VCALENDAR
