BEGIN:VCALENDAR
VERSION:2.0
PRODID:-//https://www.cameronstation.org//NONSGML kigkonsult.se iCalcreator 2.41.71//
CALSCALE:GREGORIAN
METHOD:PUBLISH
UID:63353266-3964-4966-b964-336366373464
X-WR-CALNAME:JCal Pro Calendar
X-WR-CALDESC:Your online events calendar
X-WR-TIMEZONE:America/New_York
BEGIN:VTIMEZONE
TZID:America/New_York
TZUNTIL:20271107T060000Z
BEGIN:STANDARD
TZNAME:EST
DTSTART:20251102T020000
TZOFFSETFROM:-0400
TZOFFSETTO:-0500
RDATE:20261101T020000
END:STANDARD
BEGIN:DAYLIGHT
TZNAME:EDT
DTSTART:20260308T020000
TZOFFSETFROM:-0500
TZOFFSETTO:-0400
RDATE:20270314T020000
END:DAYLIGHT
END:VTIMEZONE
BEGIN:VEVENT
UID:20251026T090000UTC-8216EvdLza@https://cameronstation.org/
DTSTAMP:20260424T041252Z
CATEGORIES:Local Events
DESCRIPTION:<p><strong>Sunday\, October 26<span style='font-size: 12px\;'>\
 ,</span>&nbsp\;2025</strong></p>\n<p><strong>4 Mile Run Farmers and Artisa
 ns Market 9:00 AM - 2:00 PM</strong></p>\n<p><strong>&nbsp\;4109 Mt Vernon
  Ave</strong></p>\n<p><strong>Hello Market Friends!</strong></p>\n<p>Our&n
 bsp\;<strong>Fall Hours</strong>&nbsp\;are now in effect:&nbsp\;<strong>9 
 AM – 2 PM</strong><br />Enjoy&nbsp\;<strong>beautiful fall temps</strong>&
 nbsp\;in the&nbsp\;<strong>high 50s–low 60s</strong>\, with&nbsp\;<strong>
 sunshine and no rain</strong>&nbsp\;— perfect weather for a stroll through
  the market!</p>\n<p><span style='text-decoration: underline\;'><a href='p
 df/4_Mile_Run_Farmers_and_Artisans_Market_-_Oct_26.pdf' target='_blank' cl
 ass='wf_file'>Click here</a></span> for more information!&nbsp\;</p>
DTSTART;TZID=America/New_York:20251026T090000
DTEND;TZID=America/New_York:20251026T140000
SUMMARY:4 Mile Run Farmers and Artisans Market
URL:https://www.cameronstation.org/calendar/86-local-events/9322-4-mile-run
 -farmers-and-artisans-market
X-ALT-DESC;FMTTYPE=TEXT/HTML:<p><strong>Sunday\, October 26<span style='fon
 t-size: 12px\;'>\,</span>&nbsp\;2025</strong></p>\n<p><strong>4 Mile Run F
 armers and Artisans Market 9:00 AM - 2:00 PM</strong></p>\n<p><strong>&nbs
 p\;4109 Mt Vernon Ave</strong></p>\n<p><strong>Hello Market Friends!</stro
 ng></p>\n<p>Our&nbsp\;<strong>Fall Hours</strong>&nbsp\;are now in effect:
 &nbsp\;<strong>9 AM – 2 PM</strong><br />Enjoy&nbsp\;<strong>beautiful fal
 l temps</strong>&nbsp\;in the&nbsp\;<strong>high 50s–low 60s</strong>\, wi
 th&nbsp\;<strong>sunshine and no rain</strong>&nbsp\;— perfect weather for
  a stroll through the market!</p>\n<p><span style='text-decoration: underl
 ine\;'><a href='pdf/4_Mile_Run_Farmers_and_Artisans_Market_-_Oct_26.pdf' t
 arget='_blank' class='wf_file'>Click here</a></span> for more information!
 &nbsp\;</p>
END:VEVENT
END:VCALENDAR
