BEGIN:VCALENDAR
VERSION:2.0
PRODID:-//https://www.cameronstation.org//NONSGML kigkonsult.se iCalcreator 2.41.71//
CALSCALE:GREGORIAN
METHOD:PUBLISH
UID:30366530-3066-4431-b862-333966636435
X-WR-CALNAME:JCal Pro Calendar
X-WR-CALDESC:Your online events calendar
X-WR-TIMEZONE:America/New_York
BEGIN:VTIMEZONE
TZID:America/New_York
TZUNTIL:20271107T060000Z
BEGIN:STANDARD
TZNAME:EST
DTSTART:20251102T020000
TZOFFSETFROM:-0400
TZOFFSETTO:-0500
RDATE:20261101T020000
END:STANDARD
BEGIN:DAYLIGHT
TZNAME:EDT
DTSTART:20260308T020000
TZOFFSETFROM:-0500
TZOFFSETTO:-0400
RDATE:20270314T020000
END:DAYLIGHT
END:VTIMEZONE
BEGIN:VEVENT
UID:20250405T100000UTC-9459CVMvdP@https://cameronstation.org/
DTSTAMP:20260424T135843Z
CATEGORIES:Local Events
DESCRIPTION:<p>Join your neighbors for&nbsp\;<strong data-start='24' data-e
 nd='49'>Operation Clean Sweep</strong>\, a fun-filled morning dedicated to
  keeping&nbsp\;<strong data-start='93' data-end='113'>Ben Brenman Park</st
 rong>beautiful. This community cleanup event is a great opportunity to giv
 e back\, enjoy the fresh air\, and connect with fellow residents while hel
 ping to maintain one of our neighborhood’s most beloved green spaces.</p>
 \n<p data-start='328' data-end='573'>We’ll meet at the pavilion by the par
 k flagpole on&nbsp\;<strong data-start='379' data-end='413'>Saturday\, Apr
 il 5\, at 10:00 AM</strong>&nbsp\;to kick off the cleanup efforts. Volunte
 ers of all ages are welcome\, so bring your friends\, family\, and enthusi
 asm as we work together to spruce up the park.</p>\n<p data-start='575' da
 ta-end='778'>If you’d like to participate\, please RSVP by emailing&nbsp\;
 <strong data-start='629' data-end='651'><a href='mailto:CSNParks@Gmail.com
 ' data-start='631' data-end='649'></a><a href='mailto:CSNParks@Gmail.com'>
 CSNParks@Gmail.com</a></strong>. This event is proudly sponsored by the&nb
 sp\;<strong data-start='692' data-end='740'>Friends of Cameron Station Nei
 ghborhood Park</strong>. We look forward to seeing you there!</p>
DTSTART;TZID=America/New_York:20250405T100000
DTEND;TZID=America/New_York:20250405T110000
SUMMARY:Operation Clean Sweep - Ben Brenman Park
URL:https://www.cameronstation.org/calendar/86-local-events/9047-operation-
 clean-sweep-ben-brenman-park
X-ALT-DESC;FMTTYPE=TEXT/HTML:<p>Join your neighbors for&nbsp\;<strong data-
 start='24' data-end='49'>Operation Clean Sweep</strong>\, a fun-filled mor
 ning dedicated to keeping&nbsp\;<strong data-start='93' data-end='113'>Ben
  Brenman Park</strong>beautiful. This community cleanup event is a great o
 pportunity to give back\, enjoy the fresh air\, and connect with fellow re
 sidents while helping to maintain one of our neighborhood’s most beloved g
 reen spaces.</p>\n<p data-start='328' data-end='573'>We’ll meet at the pav
 ilion by the park flagpole on&nbsp\;<strong data-start='379' data-end='413
 '>Saturday\, April 5\, at 10:00 AM</strong>&nbsp\;to kick off the cleanup 
 efforts. Volunteers of all ages are welcome\, so bring your friends\, fami
 ly\, and enthusiasm as we work together to spruce up the park.</p>\n<p dat
 a-start='575' data-end='778'>If you’d like to participate\, please RSVP by
  emailing&nbsp\;<strong data-start='629' data-end='651'><a href='mailto:CS
 NParks@Gmail.com' data-start='631' data-end='649'></a><a href='mailto:CSNP
 arks@Gmail.com'>CSNParks@Gmail.com</a></strong>. This event is proudly spo
 nsored by the&nbsp\;<strong data-start='692' data-end='740'>Friends of Cam
 eron Station Neighborhood Park</strong>. We look forward to seeing you the
 re!</p>
END:VEVENT
END:VCALENDAR
