BEGIN:VCALENDAR
VERSION:2.0
PRODID:-//https://www.cameronstation.org//NONSGML kigkonsult.se iCalcreator 2.41.71//
CALSCALE:GREGORIAN
METHOD:PUBLISH
UID:64363237-3366-4264-b338-643464303966
X-WR-CALNAME:JCal Pro Calendar
X-WR-CALDESC:Your online events calendar
X-WR-TIMEZONE:America/New_York
BEGIN:VTIMEZONE
TZID:America/New_York
TZUNTIL:20271107T060000Z
BEGIN:STANDARD
TZNAME:EST
DTSTART:20251102T020000
TZOFFSETFROM:-0400
TZOFFSETTO:-0500
RDATE:20261101T020000
END:STANDARD
BEGIN:DAYLIGHT
TZNAME:EDT
DTSTART:20260308T020000
TZOFFSETFROM:-0500
TZOFFSETTO:-0400
RDATE:20270314T020000
END:DAYLIGHT
END:VTIMEZONE
BEGIN:VEVENT
UID:20260408T180000UTC-4364TSIUom@https://cameronstation.org/
DTSTAMP:20260423T161824Z
CATEGORIES:Local Events
DESCRIPTION:<p><span>Wednesday\, April 6\, 2026 </span></p>\n<p><span>6:00 
 pm - 8:00 pm Bill Schroeher </span></p>\n<p><span>Bill performs hits from 
 the ‘60s to today\, across a wide span of genres\, providing something for
  everyone.&nbsp\;</span></p>
DTSTART;TZID=America/New_York:20260408T180000
DTEND;TZID=America/New_York:20260408T200000
SUMMARY:Cameron Cafe LIVE Music: Bill Schroeher
URL:https://www.cameronstation.org/calendar/86-local-events/10459-cameron-c
 afe-live-music-bill-schroeher
X-ALT-DESC;FMTTYPE=TEXT/HTML:<p><span>Wednesday\, April 6\, 2026 </span></p
 >\n<p><span>6:00 pm - 8:00 pm Bill Schroeher </span></p>\n<p><span>Bill pe
 rforms hits from the ‘60s to today\, across a wide span of genres\, provid
 ing something for everyone.&nbsp\;</span></p>
END:VEVENT
END:VCALENDAR
