BEGIN:VCALENDAR
VERSION:2.0
PRODID:-//https://www.cameronstation.org//NONSGML kigkonsult.se iCalcreator 2.41.71//
CALSCALE:GREGORIAN
METHOD:PUBLISH
UID:38316164-6433-4531-a264-616435653764
X-WR-CALNAME:JCal Pro Calendar
X-WR-CALDESC:Your online events calendar
X-WR-TIMEZONE:America/New_York
BEGIN:VTIMEZONE
TZID:America/New_York
TZUNTIL:20271107T060000Z
BEGIN:STANDARD
TZNAME:EST
DTSTART:20251102T020000
TZOFFSETFROM:-0400
TZOFFSETTO:-0500
RDATE:20261101T020000
END:STANDARD
BEGIN:DAYLIGHT
TZNAME:EDT
DTSTART:20260308T020000
TZOFFSETFROM:-0500
TZOFFSETTO:-0400
RDATE:20270314T020000
END:DAYLIGHT
END:VTIMEZONE
BEGIN:VEVENT
UID:20250604T103000UTC-7217vxuAWv@https://cameronstation.org/
DTSTAMP:20260423T195235Z
CATEGORIES:Advisories
DTSTART;TZID=America/New_York:20260211T103000
DTEND;TZID=America/New_York:20260211T113000
SUMMARY:Stretch and Core - Cancelled Today
URL:https://www.cameronstation.org/calendar/84-advisories/9395-stretch-and-
 core
END:VEVENT
END:VCALENDAR
