BEGIN:VCALENDAR
VERSION:2.0
PRODID:-//https://www.cameronstation.org//NONSGML kigkonsult.se iCalcreator 2.41.71//
CALSCALE:GREGORIAN
METHOD:PUBLISH
UID:34383136-6430-4032-b738-306638373639
X-WR-CALNAME:JCal Pro Calendar
X-WR-CALDESC:Your online events calendar
X-WR-TIMEZONE:America/New_York
BEGIN:VTIMEZONE
TZID:America/New_York
TZUNTIL:20271107T060000Z
BEGIN:STANDARD
TZNAME:EST
DTSTART:20251102T020000
TZOFFSETFROM:-0400
TZOFFSETTO:-0500
RDATE:20261101T020000
END:STANDARD
BEGIN:DAYLIGHT
TZNAME:EDT
DTSTART:20260308T020000
TZOFFSETFROM:-0500
TZOFFSETTO:-0400
RDATE:20270314T020000
END:DAYLIGHT
END:VTIMEZONE
BEGIN:VEVENT
UID:20250617T060000UTC-9081g2Nt71@https://cameronstation.org/
DTSTAMP:20260424T104822Z
CATEGORIES:Advisories
DESCRIPTION:<p><strong>Primary Election Polling Place Information: Tuesday\
 , June 17\, 2025</strong></p>\n<p>The Cameron Club will be a polling place
  for the Primary Election\, on Tuesday\, June 17\, 2025\, beginning at 6:0
 0 am. Please see below for guidelines provided by the Election Office:</p>
 \n<p><strong>Time:</strong>&nbsp\;6:00 am to 7:00 pm</p>\n<p><strong>Locat
 ion:</strong>&nbsp\;Cameron Club\, Victoria Hebert Great Room</p>\n<p><str
 ong>Entry:&nbsp\;</strong>200 Cameron Station\, Fitness Center entrance</p
 >\n<p><strong>Exit:</strong>&nbsp\;Side exit within the Great Room</p>\n<p
 >Signs will be posted throughout the Cameron Club to show entry and exit. 
 Volunteers will be on-site to guide and assist with parking.</p>
DTSTART;TZID=America/New_York:20250617T060000
DTEND;TZID=America/New_York:20250617T190000
SUMMARY:Primary Election Polling Place - Victoria Hebert Great Room
URL:https://www.cameronstation.org/calendar/84-advisories/9141-primary-elec
 tion-polling-place-victoria-hebert-great-room
X-ALT-DESC;FMTTYPE=TEXT/HTML:<p><strong>Primary Election Polling Place Info
 rmation: Tuesday\, June 17\, 2025</strong></p>\n<p>The Cameron Club will b
 e a polling place for the Primary Election\, on Tuesday\, June 17\, 2025\,
  beginning at 6:00 am. Please see below for guidelines provided by the Ele
 ction Office:</p>\n<p><strong>Time:</strong>&nbsp\;6:00 am to 7:00 pm</p>
 \n<p><strong>Location:</strong>&nbsp\;Cameron Club\, Victoria Hebert Great
  Room</p>\n<p><strong>Entry:&nbsp\;</strong>200 Cameron Station\, Fitness 
 Center entrance</p>\n<p><strong>Exit:</strong>&nbsp\;Side exit within the 
 Great Room</p>\n<p>Signs will be posted throughout the Cameron Club to sho
 w entry and exit. Volunteers will be on-site to guide and assist with park
 ing.</p>
END:VEVENT
END:VCALENDAR
