BEGIN:VCALENDAR
VERSION:2.0
PRODID:-//https://www.cameronstation.org//NONSGML kigkonsult.se iCalcreator 2.41.71//
CALSCALE:GREGORIAN
METHOD:PUBLISH
UID:39636263-3038-4965-b834-386630336663
X-WR-CALNAME:JCal Pro Calendar
X-WR-CALDESC:Your online events calendar
X-WR-TIMEZONE:America/New_York
BEGIN:VTIMEZONE
TZID:America/New_York
TZUNTIL:20271107T060000Z
BEGIN:STANDARD
TZNAME:EST
DTSTART:20251102T020000
TZOFFSETFROM:-0400
TZOFFSETTO:-0500
RDATE:20261101T020000
END:STANDARD
BEGIN:DAYLIGHT
TZNAME:EDT
DTSTART:20260308T020000
TZOFFSETFROM:-0500
TZOFFSETTO:-0400
RDATE:20270314T020000
END:DAYLIGHT
END:VTIMEZONE
BEGIN:VEVENT
UID:20250530T090000UTC-4617x8g84M@https://cameronstation.org/
DTSTAMP:20260424T121818Z
CATEGORIES:Advisories
DTSTART;TZID=America/New_York:20250530T090000
DTEND;TZID=America/New_York:20250530T170000
SUMMARY:ARC Application Due Date for 06/18 Meeting
URL:https://www.cameronstation.org/calendar/84-advisories/9138-arc-applicat
 ion-due-date-for-06-18-meeting
END:VEVENT
END:VCALENDAR
