BEGIN:VCALENDAR
VERSION:2.0
PRODID:-//https://www.cameronstation.org//NONSGML kigkonsult.se iCalcreator 2.41.71//
CALSCALE:GREGORIAN
METHOD:PUBLISH
UID:39616439-6435-4166-b634-313364626266
X-WR-CALNAME:JCal Pro Calendar
X-WR-CALDESC:Your online events calendar
X-WR-TIMEZONE:America/New_York
BEGIN:VTIMEZONE
TZID:America/New_York
TZUNTIL:20271107T060000Z
BEGIN:STANDARD
TZNAME:EST
DTSTART:20251102T020000
TZOFFSETFROM:-0400
TZOFFSETTO:-0500
RDATE:20261101T020000
END:STANDARD
BEGIN:DAYLIGHT
TZNAME:EDT
DTSTART:20260308T020000
TZOFFSETFROM:-0500
TZOFFSETTO:-0400
RDATE:20270314T020000
END:DAYLIGHT
END:VTIMEZONE
BEGIN:VEVENT
UID:20250331T080000UTC-9289l6V1gv@https://cameronstation.org/
DTSTAMP:20260424T135852Z
CATEGORIES:Advisories
DESCRIPTION:<p><strong>Assessments are due and payable the first day of Jan
 uary\, April\, July and October.</strong></p>\n<p>Townhome/Single Family O
 wners:&nbsp\;To view the assessment fees and log in to the Resident Portal
  to pay your account online\,&nbsp\;<a href='our-neighborhood/hoa-services
 -fees' target='_blank' rel='noopener noreferrer'>click&nbsp\;here</a>&nbsp
 \;for instructions and more information. Please note\, payments are not ac
 cepted at the on-site office or at the CAMP office. Payments received ten 
 (10) days after the due date will be charged a late fee of $25.00.</p>\n<p
 >Condominium Owners:&nbsp\;Condominium Owners should only pay their condo 
 fees directly to their Condominium Associations and are not billed by the 
 Cameron Station Community Management as those assessments are included in 
 your respective Condominium Association monthly dues.&nbsp\;<a href='our-n
 eighborhood/hoa-services-fees' target='_blank' rel='noopener noreferrer'>C
 lick here</a>&nbsp\;for more information to pay your Condo Association dir
 ectly.</p>\n<table style='width: 846px\; height: 349px\;'>\n<tbody>\n<tr>
 \n<td style='text-align: center\;'>\n<p><strong>&nbsp\;Unit Type</strong><
 /p>\n</td>\n<td style='text-align: center\;'>\n<p><strong>2025 Rate</stron
 g></p>\n</td>\n<td style='text-align: center\;'>\n<p><strong>2025 Rate Inc
 rease in&nbsp\;</strong><strong>$ (%)</strong></p>\n</td>\n</tr>\n<tr>\n<t
 d style='text-align: center\;'>\n<p>Townhouses/ Single Family Homes</p>\n<
 /td>\n<td style='text-align: center\;'>\n<p><strong>$448.05</strong></p>\n
 </td>\n<td style='text-align: center\;'>\n<p>$15.25&nbsp\; &nbsp\; &nbsp\;
  &nbsp\; &nbsp\;(3.523%)</p>\n</td>\n</tr>\n<tr>\n<td style='text-align: c
 enter\;'>\n<p>Condominiums</p>\n</td>\n<td style='text-align: center\;'>\n
 <p><strong>$358.44</strong></p>\n</td>\n<td style='text-align: center\;'>
 \n<p>$12.20&nbsp\; &nbsp\; &nbsp\; &nbsp\; &nbsp\;(3.523%)</p>\n</td>\n</t
 r>\n<tr>\n<td style='text-align: center\;'>\n<p>Commercial</p>\n</td>\n<td
  style='text-align: center\;'>\n<p><strong>$376.10</strong></p>\n</td>\n<t
 d style='text-align: center\;'>\n<p>$4.57&nbsp\; &nbsp\; &nbsp\; &nbsp\; &
 nbsp\; &nbsp\; (1.230%)</p>\n</td>\n</tr>\n</tbody>\n</table>\n<p>&nbsp\;<
 /p>
DTSTART;TZID=America/New_York:20250401T000000
DTEND;TZID=America/New_York:20250401T235959
SUMMARY:HOA Quarterly Assessments - Due April 1\, 2025!
URL:https://www.cameronstation.org/calendar/84-advisories/9097-hoa-quarterl
 y-assessments-due-april-1-2025
X-ALT-DESC;FMTTYPE=TEXT/HTML:<p><strong>Assessments are due and payable the
  first day of January\, April\, July and October.</strong></p>\n<p>Townhom
 e/Single Family Owners:&nbsp\;To view the assessment fees and log in to th
 e Resident Portal to pay your account online\,&nbsp\;<a href='our-neighbor
 hood/hoa-services-fees' target='_blank' rel='noopener noreferrer'>click&nb
 sp\;here</a>&nbsp\;for instructions and more information. Please note\, pa
 yments are not accepted at the on-site office or at the CAMP office. Payme
 nts received ten (10) days after the due date will be charged a late fee o
 f $25.00.</p>\n<p>Condominium Owners:&nbsp\;Condominium Owners should only
  pay their condo fees directly to their Condominium Associations and are n
 ot billed by the Cameron Station Community Management as those assessments
  are included in your respective Condominium Association monthly dues.&nbs
 p\;<a href='our-neighborhood/hoa-services-fees' target='_blank' rel='noope
 ner noreferrer'>Click here</a>&nbsp\;for more information to pay your Cond
 o Association directly.</p>\n<table style='width: 846px\; height: 349px\;'
 >\n<tbody>\n<tr>\n<td style='text-align: center\;'>\n<p><strong>&nbsp\;Uni
 t Type</strong></p>\n</td>\n<td style='text-align: center\;'>\n<p><strong>
 2025 Rate</strong></p>\n</td>\n<td style='text-align: center\;'>\n<p><stro
 ng>2025 Rate Increase in&nbsp\;</strong><strong>$ (%)</strong></p>\n</td>
 \n</tr>\n<tr>\n<td style='text-align: center\;'>\n<p>Townhouses/ Single Fa
 mily Homes</p>\n</td>\n<td style='text-align: center\;'>\n<p><strong>$448.
 05</strong></p>\n</td>\n<td style='text-align: center\;'>\n<p>$15.25&nbsp\
 ; &nbsp\; &nbsp\; &nbsp\; &nbsp\;(3.523%)</p>\n</td>\n</tr>\n<tr>\n<td sty
 le='text-align: center\;'>\n<p>Condominiums</p>\n</td>\n<td style='text-al
 ign: center\;'>\n<p><strong>$358.44</strong></p>\n</td>\n<td style='text-a
 lign: center\;'>\n<p>$12.20&nbsp\; &nbsp\; &nbsp\; &nbsp\; &nbsp\;(3.523%)
 </p>\n</td>\n</tr>\n<tr>\n<td style='text-align: center\;'>\n<p>Commercial
 </p>\n</td>\n<td style='text-align: center\;'>\n<p><strong>$376.10</strong
 ></p>\n</td>\n<td style='text-align: center\;'>\n<p>$4.57&nbsp\; &nbsp\; &
 nbsp\; &nbsp\; &nbsp\; &nbsp\; (1.230%)</p>\n</td>\n</tr>\n</tbody>\n</tab
 le>\n<p>&nbsp\;</p>
END:VEVENT
END:VCALENDAR
