BEGIN:VCALENDAR
VERSION:2.0
PRODID:-//https://www.cameronstation.org//NONSGML kigkonsult.se iCalcreator 2.41.71//
CALSCALE:GREGORIAN
METHOD:PUBLISH
UID:62303530-6463-4366-a535-303962643937
X-WR-CALNAME:JCal Pro Calendar
X-WR-CALDESC:Your online events calendar
X-WR-TIMEZONE:America/New_York
BEGIN:VTIMEZONE
TZID:America/New_York
TZUNTIL:20271107T060000Z
BEGIN:STANDARD
TZNAME:EST
DTSTART:20251102T020000
TZOFFSETFROM:-0400
TZOFFSETTO:-0500
RDATE:20261101T020000
END:STANDARD
BEGIN:DAYLIGHT
TZNAME:EDT
DTSTART:20260308T020000
TZOFFSETFROM:-0500
TZOFFSETTO:-0400
RDATE:20270314T020000
END:DAYLIGHT
END:VTIMEZONE
BEGIN:VEVENT
UID:20241226T160000UTC-8092G7CcUu@https://cameronstation.org/
DTSTAMP:20260424T215827Z
CATEGORIES:Advisories
DESCRIPTION:<p>Fitness Center Holiday Hours - New Year's Eve &amp\; New Yea
 r's Day</p>\n<ul>\n<li>The Fitness Center&nbsp\;<strong>is closing&nbsp\;a
 t 4:00 pm Tuesday\, December 31\, 2024\, and will be closed Wednesday\, Ja
 nuary 1\, 2025</strong>\, in observance of thhe New Year. The Fitness Cent
 er will resume normal hours Thursday\, January 2\, at 4:45 am.</li>\n</ul>
DTSTART;TZID=America/New_York:20241231T160000
DTEND;TZID=America/New_York:20241231T170000
SUMMARY:New Year's Eve - Fitness Center Holiday Hours
URL:https://www.cameronstation.org/calendar/84-advisories/8020-new-years-ev
 e-fitness-center-holiday-hours
X-ALT-DESC;FMTTYPE=TEXT/HTML:<p>Fitness Center Holiday Hours - New Year's E
 ve &amp\; New Year's Day</p>\n<ul>\n<li>The Fitness Center&nbsp\;<strong>i
 s closing&nbsp\;at 4:00 pm Tuesday\, December 31\, 2024\, and will be clos
 ed Wednesday\, January 1\, 2025</strong>\, in observance of thhe New Year.
  The Fitness Center will resume normal hours Thursday\, January 2\, at 4:4
 5 am.</li>\n</ul>
END:VEVENT
END:VCALENDAR
