BEGIN:VCALENDAR
VERSION:2.0
PRODID:-//https://www.cameronstation.org//NONSGML kigkonsult.se iCalcreator 2.41.71//
CALSCALE:GREGORIAN
METHOD:PUBLISH
UID:30323432-6130-4336-a132-393765323464
X-WR-CALNAME:JCal Pro Calendar
X-WR-CALDESC:Your online events calendar
X-WR-TIMEZONE:America/New_York
BEGIN:VTIMEZONE
TZID:America/New_York
TZUNTIL:20271107T060000Z
BEGIN:STANDARD
TZNAME:EST
DTSTART:20251102T020000
TZOFFSETFROM:-0400
TZOFFSETTO:-0500
RDATE:20261101T020000
END:STANDARD
BEGIN:DAYLIGHT
TZNAME:EDT
DTSTART:20260308T020000
TZOFFSETFROM:-0500
TZOFFSETTO:-0400
RDATE:20270314T020000
END:DAYLIGHT
END:VTIMEZONE
BEGIN:VEVENT
UID:20241225T090000UTC-4359DiA6N6@https://cameronstation.org/
DTSTAMP:20260424T202850Z
CATEGORIES:Advisories
DESCRIPTION:<p><strong>Fitness Center Closed - Christmas Day</strong></p>\n
 <ul>\n<li>The Fitness Center<strong>&nbsp\;will be closed Wednesday\, Dece
 mber 25\, 2024</strong>\, in observance of Christmas. The Fitness Center w
 ill resume normal hours Thursday\, December 26\, 2024\, at 4:45 am.</li>\n
 </ul>
DTSTART;TZID=America/New_York:20241225T000000
DTEND;TZID=America/New_York:20241225T235959
SUMMARY:Christmas Day - Fitness Center Closed
URL:https://www.cameronstation.org/calendar/84-advisories/8019-christmas-da
 y-fitness-center-closed
X-ALT-DESC;FMTTYPE=TEXT/HTML:<p><strong>Fitness Center Closed - Christmas D
 ay</strong></p>\n<ul>\n<li>The Fitness Center<strong>&nbsp\;will be closed
  Wednesday\, December 25\, 2024</strong>\, in observance of Christmas. The
  Fitness Center will resume normal hours Thursday\, December 26\, 2024\, a
 t 4:45 am.</li>\n</ul>
END:VEVENT
END:VCALENDAR
