BEGIN:VCALENDAR
VERSION:2.0
PRODID:-//https://www.cameronstation.org//NONSGML kigkonsult.se iCalcreator 2.41.71//
CALSCALE:GREGORIAN
METHOD:PUBLISH
UID:66386539-6137-4332-a633-363863336364
X-WR-CALNAME:JCal Pro Calendar
X-WR-CALDESC:Your online events calendar
X-WR-TIMEZONE:America/New_York
BEGIN:VTIMEZONE
TZID:America/New_York
TZUNTIL:20271107T060000Z
BEGIN:STANDARD
TZNAME:EST
DTSTART:20251102T020000
TZOFFSETFROM:-0400
TZOFFSETTO:-0500
RDATE:20261101T020000
END:STANDARD
BEGIN:DAYLIGHT
TZNAME:EDT
DTSTART:20260308T020000
TZOFFSETFROM:-0500
TZOFFSETTO:-0400
RDATE:20270314T020000
END:DAYLIGHT
END:VTIMEZONE
BEGIN:VEVENT
UID:20241021T090000UTC-8885p0BupN@https://cameronstation.org/
DTSTAMP:20260425T010548Z
CATEGORIES:Advisories
DESCRIPTION:<p>Any questions you would like to propose for the candidates t
 o answer at the meeting\, please email them to <a href='mailto:managers@ca
 meronstation.org'>managers@cameronstation.org</a> no later than <strong>4:
 00 pm Monday\, October 21\, 2024.</strong></p>
DTSTART;TZID=America/New_York:20241021T090000
DTEND;TZID=America/New_York:20241021T160000
SUMMARY:Meet the Candidates - Questions Due
URL:https://www.cameronstation.org/calendar/84-advisories/7637-meet-the-can
 didates-questions-due
X-ALT-DESC;FMTTYPE=TEXT/HTML:<p>Any questions you would like to propose for
  the candidates to answer at the meeting\, please email them to <a href='m
 ailto:managers@cameronstation.org'>managers@cameronstation.org</a> no late
 r than <strong>4:00 pm Monday\, October 21\, 2024.</strong></p>
END:VEVENT
END:VCALENDAR
