BEGIN:VCALENDAR
VERSION:2.0
PRODID:-//https://www.cameronstation.org//NONSGML kigkonsult.se iCalcreator 2.41.71//
CALSCALE:GREGORIAN
METHOD:PUBLISH
UID:38396234-3635-4236-b562-626134396337
X-WR-CALNAME:JCal Pro Calendar
X-WR-CALDESC:Your online events calendar
X-WR-TIMEZONE:America/New_York
BEGIN:VTIMEZONE
TZID:America/New_York
TZUNTIL:20271107T060000Z
BEGIN:STANDARD
TZNAME:EST
DTSTART:20251102T020000
TZOFFSETFROM:-0400
TZOFFSETTO:-0500
RDATE:20261101T020000
END:STANDARD
BEGIN:DAYLIGHT
TZNAME:EDT
DTSTART:20260308T020000
TZOFFSETFROM:-0500
TZOFFSETTO:-0400
RDATE:20270314T020000
END:DAYLIGHT
END:VTIMEZONE
BEGIN:VEVENT
UID:20241014T170000UTC-9196XD3E99@https://cameronstation.org/
DTSTAMP:20260425T010658Z
CATEGORIES:Advisories
DESCRIPTION:<p>The Mark Pillow Community Spirit Award&nbsp\;was created in 
 2006 by the Common Area Committee in memory of our neighbor\, Mark Pillow\
 , who died in December 2005. Mark embodied the spirit of Cameron Station a
 nd made it a better\, brighter place to live. The award is presented each 
 year to a resident who has made a lasting impact on the welfare and spirit
  of our community\, exemplifying Mark’s special volunteerism. Please&nbsp\
 ;<a href='https://files.constantcontact.com/54aef372401/f00c1094-94c6-4a4c
 -a874-45e1c8006313.pdf?rdr=true' target='_blank' rel='noopener noreferrer'
 >click here</a>&nbsp\;for more information.</p>\n<p>&nbsp\;The Volunteer o
 f the Year Award&nbsp\;was instituted in 2016 to recognize residents who h
 ave had a significant\, positive impact on our community by volunteering t
 heir time and service.</p>\n<p>&nbsp\;Nominations for the Mark Pillow Awar
 d and for the Volunteer of the Year Award are being accepted through <stro
 ng>Monday\, October 14\, 2024</strong>.&nbsp\;Submit your nominations to <
 a href='mailto:admin@cameronstation.org' target='_blank' rel='noopener nor
 eferrer'></a><a href='mailto:admin@cameronstation.org'>admin@cameronstatio
 n.org</a>&nbsp\;with 'Mark Pillow Award Nomination” or “Volunteer of the Y
 ear Award Nomination' in the subject line.</p>
DTSTART;TZID=America/New_York:20241014T170000
DTEND;TZID=America/New_York:20241014T180000
SUMMARY:Mark Pillow and Volunteer of the Year Awards Nominations Due
URL:https://www.cameronstation.org/calendar/84-advisories/7636-mark-pillow-
 and-volunteer-of-the-year-awards-nominations-due
X-ALT-DESC;FMTTYPE=TEXT/HTML:<p>The Mark Pillow Community Spirit Award&nbsp
 \;was created in 2006 by the Common Area Committee in memory of our neighb
 or\, Mark Pillow\, who died in December 2005. Mark embodied the spirit of 
 Cameron Station and made it a better\, brighter place to live. The award i
 s presented each year to a resident who has made a lasting impact on the w
 elfare and spirit of our community\, exemplifying Mark’s special volunteer
 ism. Please&nbsp\;<a href='https://files.constantcontact.com/54aef372401/f
 00c1094-94c6-4a4c-a874-45e1c8006313.pdf?rdr=true' target='_blank' rel='noo
 pener noreferrer'>click here</a>&nbsp\;for more information.</p>\n<p>&nbsp
 \;The Volunteer of the Year Award&nbsp\;was instituted in 2016 to recogniz
 e residents who have had a significant\, positive impact on our community 
 by volunteering their time and service.</p>\n<p>&nbsp\;Nominations for the
  Mark Pillow Award and for the Volunteer of the Year Award are being accep
 ted through <strong>Monday\, October 14\, 2024</strong>.&nbsp\;Submit your
  nominations to <a href='mailto:admin@cameronstation.org' target='_blank' 
 rel='noopener noreferrer'></a><a href='mailto:admin@cameronstation.org'>ad
 min@cameronstation.org</a>&nbsp\;with 'Mark Pillow Award Nomination” or “V
 olunteer of the Year Award Nomination' in the subject line.</p>
END:VEVENT
END:VCALENDAR
