BEGIN:VCALENDAR
VERSION:2.0
PRODID:-//https://www.cameronstation.org//NONSGML kigkonsult.se iCalcreator 2.41.71//
CALSCALE:GREGORIAN
METHOD:PUBLISH
UID:32656131-3637-4232-b733-396235633838
X-WR-CALNAME:JCal Pro Calendar
X-WR-CALDESC:Your online events calendar
X-WR-TIMEZONE:America/New_York
BEGIN:VTIMEZONE
TZID:America/New_York
TZUNTIL:20271107T060000Z
BEGIN:STANDARD
TZNAME:EST
DTSTART:20251102T020000
TZOFFSETFROM:-0400
TZOFFSETTO:-0500
RDATE:20261101T020000
END:STANDARD
BEGIN:DAYLIGHT
TZNAME:EDT
DTSTART:20260308T020000
TZOFFSETFROM:-0500
TZOFFSETTO:-0400
RDATE:20270314T020000
END:DAYLIGHT
END:VTIMEZONE
BEGIN:VEVENT
UID:20241231T000000UTC-4731dmoLVO@https://cameronstation.org/
DTSTAMP:20260424T232943Z
CATEGORIES:Advisories
DESCRIPTION:<p><strong>Mangement Office Holiday Hours -&nbsp\; New Year's E
 ve &amp\; New Year's Day</strong></p>\n<ul>\n<li>The Management Office&nbs
 p\;will&nbsp\;be<strong>&nbsp\;closing at 2:00 pm Tuesday\, December 31\, 
 2024\, and will be&nbsp\;closed Wednesday\, January 1\, 2025</strong>\, in
  observance of the New Year holiday.&nbsp\;Normal hours will resume Thursd
 ay\, January 2\, 2025\, at 9:00 am.</li>\n</ul>
DTSTART;TZID=America/New_York:20241231T140000
DTEND;TZID=America/New_York:20241231T150000
SUMMARY:New Year's Eve - Management Holiday Hours
URL:https://www.cameronstation.org/calendar/84-advisories/7184-new-years-ev
 e
X-ALT-DESC;FMTTYPE=TEXT/HTML:<p><strong>Mangement Office Holiday Hours -&nb
 sp\; New Year's Eve &amp\; New Year's Day</strong></p>\n<ul>\n<li>The Mana
 gement Office&nbsp\;will&nbsp\;be<strong>&nbsp\;closing at 2:00 pm Tuesday
 \, December 31\, 2024\, and will be&nbsp\;closed Wednesday\, January 1\, 2
 025</strong>\, in observance of the New Year holiday.&nbsp\;Normal hours w
 ill resume Thursday\, January 2\, 2025\, at 9:00 am.</li>\n</ul>
END:VEVENT
END:VCALENDAR
