BEGIN:VCALENDAR
VERSION:2.0
PRODID:-//https://www.cameronstation.org//NONSGML kigkonsult.se iCalcreator 2.41.71//
CALSCALE:GREGORIAN
METHOD:PUBLISH
UID:64353235-3263-4334-a234-623334383136
X-WR-CALNAME:JCal Pro Calendar
X-WR-CALDESC:Your online events calendar
X-WR-TIMEZONE:America/New_York
BEGIN:VTIMEZONE
TZID:America/New_York
TZUNTIL:20271107T060000Z
BEGIN:STANDARD
TZNAME:EST
DTSTART:20251102T020000
TZOFFSETFROM:-0400
TZOFFSETTO:-0500
RDATE:20261101T020000
END:STANDARD
BEGIN:DAYLIGHT
TZNAME:EDT
DTSTART:20260308T020000
TZOFFSETFROM:-0500
TZOFFSETTO:-0400
RDATE:20270314T020000
END:DAYLIGHT
END:VTIMEZONE
BEGIN:VEVENT
UID:20241225T090000UTC-3840sKHgOu@https://cameronstation.org/
DTSTAMP:20260424T225306Z
CATEGORIES:Advisories
DESCRIPTION:<p><strong>Management Office - Christmas Day</strong></p>\n<ul>
 \n<li>The Management Office&nbsp\;<strong>will be&nbsp\;closed Wednesday\,
  December 25\, 2024</strong>\, in observance of Christmas.&nbsp\;Normal ho
 urs will resume Thursday\, December 26\, 2024\, at 9:00 am.&nbsp\;</li>\n<
 /ul>\n<p><strong>&nbsp\;Shuttle Bus Schedule&nbsp\;<strong>- Christmas Day
 </strong></strong></p>\n<ul>\n<li>The shuttle bus will&nbsp\;<strong>not&n
 bsp\;operate on&nbsp\;Wednesday\, December 25\, 2024</strong>.&nbsp\;Shutt
 le bus service will resume on Thursday\, December 26\, 2024.&nbsp\;<span s
 tyle='text-decoration: underline\;'><a href='https://www.cameronstation.or
 g/about/neighborhood-amenities/shuttle-bus' target='_blank' rel='noopener 
 noreferrer'>Click here</a></span>&nbsp\;for the shuttle bus schedule.</li>
 \n</ul>
DTSTART;TZID=America/New_York:20241225T000000
DTEND;TZID=America/New_York:20241225T235959
SUMMARY:Christmas Day - Management Office Closed
URL:https://www.cameronstation.org/calendar/84-advisories/7183-christmas-of
 fice-closed
X-ALT-DESC;FMTTYPE=TEXT/HTML:<p><strong>Management Office - Christmas Day</
 strong></p>\n<ul>\n<li>The Management Office&nbsp\;<strong>will be&nbsp\;c
 losed Wednesday\, December 25\, 2024</strong>\, in observance of Christmas
 .&nbsp\;Normal hours will resume Thursday\, December 26\, 2024\, at 9:00 a
 m.&nbsp\;</li>\n</ul>\n<p><strong>&nbsp\;Shuttle Bus Schedule&nbsp\;<stron
 g>- Christmas Day</strong></strong></p>\n<ul>\n<li>The shuttle bus will&nb
 sp\;<strong>not&nbsp\;operate on&nbsp\;Wednesday\, December 25\, 2024</str
 ong>.&nbsp\;Shuttle bus service will resume on Thursday\, December 26\, 20
 24.&nbsp\;<span style='text-decoration: underline\;'><a href='https://www.
 cameronstation.org/about/neighborhood-amenities/shuttle-bus' target='_blan
 k' rel='noopener noreferrer'>Click here</a></span>&nbsp\;for the shuttle b
 us schedule.</li>\n</ul>
END:VEVENT
END:VCALENDAR
