BEGIN:VCALENDAR
VERSION:2.0
PRODID:-//https://www.cameronstation.org//NONSGML kigkonsult.se iCalcreator 2.41.71//
CALSCALE:GREGORIAN
METHOD:PUBLISH
UID:36383762-3231-4863-b265-663261616663
X-WR-CALNAME:JCal Pro Calendar
X-WR-CALDESC:Your online events calendar
X-WR-TIMEZONE:America/New_York
BEGIN:VTIMEZONE
TZID:America/New_York
TZUNTIL:20271107T060000Z
BEGIN:STANDARD
TZNAME:EST
DTSTART:20251102T020000
TZOFFSETFROM:-0400
TZOFFSETTO:-0500
RDATE:20261101T020000
END:STANDARD
BEGIN:DAYLIGHT
TZNAME:EDT
DTSTART:20260308T020000
TZOFFSETFROM:-0500
TZOFFSETTO:-0400
RDATE:20270314T020000
END:DAYLIGHT
END:VTIMEZONE
BEGIN:VEVENT
UID:20241128T090000UTC-0053eR3Xg2@https://cameronstation.org/
DTSTAMP:20260424T223123Z
CATEGORIES:Advisories
DESCRIPTION:<p><strong>Management Office</strong></p>\n<ul>\n<li>The Manage
 ment Office will be <strong>closed on Thursday\, November 28\, and Friday\
 , November 29\, 2024</strong>\,&nbsp\;in observance of Thanksgiving.&nbsp\
 ;Normal hours will resume on Monday\, December 2\, 2024\, at 9:00 a.m.</li
 >\n</ul>\n<p><strong>&nbsp\;Cameron Club Holiday Hours</strong></p>\n<ul>
 \n<li>The Cameron Club/Fitness Center will be&nbsp\;<strong>closed&nbsp\;o
 n Thursday\, November 28\, 2024.</strong> Normal hours will resume on Frid
 ay\, November 29\, 2024.</li>\n</ul>\n<p><strong>&nbsp\;Shuttle Bus Schedu
 le&nbsp\;</strong></p>\n<ul>\n<li>The shuttle bus will&nbsp\;<strong>not&n
 bsp\;operate on&nbsp\;Thursday\, November 28\, 2024.</strong>&nbsp\;Shuttl
 e bus service will resume on Friday\, November 29\, 2024.&nbsp\;<a href='h
 ttps://files.constantcontact.com/54aef372401/4160b368-9abe-484e-90b6-c4251
 26df7b1.pdf?rdr=true' target='_blank' rel='noopener'>Click here</a>&nbsp\;
 for the shuttle bus schedule.</li>\n</ul>\n<p><strong>&nbsp\;Trash/Recycli
 ng Schedule</strong></p>\n<ul>\n<li>\n<p>There will be <strong>no trash\, 
 recycle OR bulk collection on Thursday\, November 28\, 2024.</strong> Tras
 h will resume Monday\, December 2\, 2024\,&nbsp\;and Recycle AND Bulk Coll
 ection will resume Thursday\, December 5\, 2024.&nbsp\;</p>\n</li>\n</ul>
DTSTART;TZID=America/New_York:20241128T000000
DTEND;TZID=America/New_York:20241128T235959
SUMMARY:Thanksgiving Holiday - Office & Cameron Club Closed
URL:https://www.cameronstation.org/calendar/84-advisories/7182-thanksgiving
 -office-closed
X-ALT-DESC;FMTTYPE=TEXT/HTML:<p><strong>Management Office</strong></p>\n<ul
 >\n<li>The Management Office will be <strong>closed on Thursday\, November
  28\, and Friday\, November 29\, 2024</strong>\,&nbsp\;in observance of Th
 anksgiving.&nbsp\;Normal hours will resume on Monday\, December 2\, 2024\,
  at 9:00 a.m.</li>\n</ul>\n<p><strong>&nbsp\;Cameron Club Holiday Hours</s
 trong></p>\n<ul>\n<li>The Cameron Club/Fitness Center will be&nbsp\;<stron
 g>closed&nbsp\;on Thursday\, November 28\, 2024.</strong> Normal hours wil
 l resume on Friday\, November 29\, 2024.</li>\n</ul>\n<p><strong>&nbsp\;Sh
 uttle Bus Schedule&nbsp\;</strong></p>\n<ul>\n<li>The shuttle bus will&nbs
 p\;<strong>not&nbsp\;operate on&nbsp\;Thursday\, November 28\, 2024.</stro
 ng>&nbsp\;Shuttle bus service will resume on Friday\, November 29\, 2024.&
 nbsp\;<a href='https://files.constantcontact.com/54aef372401/4160b368-9abe
 -484e-90b6-c425126df7b1.pdf?rdr=true' target='_blank' rel='noopener'>Click
  here</a>&nbsp\;for the shuttle bus schedule.</li>\n</ul>\n<p><strong>&nbs
 p\;Trash/Recycling Schedule</strong></p>\n<ul>\n<li>\n<p>There will be <st
 rong>no trash\, recycle OR bulk collection on Thursday\, November 28\, 202
 4.</strong> Trash will resume Monday\, December 2\, 2024\,&nbsp\;and Recyc
 le AND Bulk Collection will resume Thursday\, December 5\, 2024.&nbsp\;</p
 >\n</li>\n</ul>
END:VEVENT
END:VCALENDAR
