BEGIN:VCALENDAR
VERSION:2.0
PRODID:-//https://www.cameronstation.org//NONSGML kigkonsult.se iCalcreator 2.41.71//
CALSCALE:GREGORIAN
METHOD:PUBLISH
UID:39363137-6139-4333-a639-363861333265
X-WR-CALNAME:JCal Pro Calendar
X-WR-CALDESC:Your online events calendar
X-WR-TIMEZONE:America/New_York
BEGIN:VTIMEZONE
TZID:America/New_York
TZUNTIL:20271107T060000Z
BEGIN:STANDARD
TZNAME:EST
DTSTART:20251102T020000
TZOFFSETFROM:-0400
TZOFFSETTO:-0500
RDATE:20261101T020000
END:STANDARD
BEGIN:DAYLIGHT
TZNAME:EDT
DTSTART:20260308T020000
TZOFFSETFROM:-0500
TZOFFSETTO:-0400
RDATE:20270314T020000
END:DAYLIGHT
END:VTIMEZONE
BEGIN:VEVENT
UID:20260127T080000UTC-17719V6zvj@https://cameronstation.org/
DTSTAMP:20260423T232608Z
CATEGORIES:Advisories
DESCRIPTION:<p><strong>Cameron Club Delayed Opening at 8:00 AM</strong></p>
 \n<p>The Cameron Club will be opening at 8:00 am Tuesday\, January 27\, 20
 26. Classes scheduled should occur as normal.</p>\n<p><strong>Management O
 ffice Closed Tuesday</strong></p>\n<p>The Management Office will be closed
  Tuesday\, January 27\, 2026\, but staff will be working remotely. If you 
 have any questions or need assistance\, the Management team will be availa
 ble via phone (703) 567-4881 or email at <a href='mailto:managers@camerons
 tation.org.'>managers@cameronstation.org.</a>&nbsp\;</p>\n<p>&nbsp\;</p>
DTSTART;TZID=America/New_York:20260127T080000
DTEND;TZID=America/New_York:20260127T090000
SUMMARY:Cameron Club Delayed Opening
URL:https://www.cameronstation.org/calendar/84-advisories/10397-cameron-clu
 b-delayed-opening
X-ALT-DESC;FMTTYPE=TEXT/HTML:<p><strong>Cameron Club Delayed Opening at 8:0
 0 AM</strong></p>\n<p>The Cameron Club will be opening at 8:00 am Tuesday\
 , January 27\, 2026. Classes scheduled should occur as normal.</p>\n<p><st
 rong>Management Office Closed Tuesday</strong></p>\n<p>The Management Offi
 ce will be closed Tuesday\, January 27\, 2026\, but staff will be working 
 remotely. If you have any questions or need assistance\, the Management te
 am will be available via phone (703) 567-4881 or email at <a href='mailto:
 managers@cameronstation.org.'>managers@cameronstation.org.</a>&nbsp\;</p>
 \n<p>&nbsp\;</p>
END:VEVENT
END:VCALENDAR
