BEGIN:VCALENDAR
VERSION:2.0
PRODID:-//https://www.cameronstation.org//NONSGML kigkonsult.se iCalcreator 2.41.71//
CALSCALE:GREGORIAN
METHOD:PUBLISH
UID:66383163-3063-4564-b638-653138623366
X-WR-CALNAME:JCal Pro Calendar
X-WR-CALDESC:Your online events calendar
X-WR-TIMEZONE:America/New_York
BEGIN:VTIMEZONE
TZID:America/New_York
TZUNTIL:20271107T060000Z
BEGIN:STANDARD
TZNAME:EST
DTSTART:20251102T020000
TZOFFSETFROM:-0400
TZOFFSETTO:-0500
RDATE:20261101T020000
END:STANDARD
BEGIN:DAYLIGHT
TZNAME:EDT
DTSTART:20260308T020000
TZOFFSETFROM:-0500
TZOFFSETTO:-0400
RDATE:20270314T020000
END:DAYLIGHT
END:VTIMEZONE
BEGIN:VEVENT
UID:20260101T080000UTC-9156zik3Xz@https://cameronstation.org/
DTSTAMP:20260423T232547Z
CATEGORIES:Advisories
DESCRIPTION:<ul>\n<li>The Cameron Club&nbsp\;will be closed Thursday\, Janu
 ary 1\, 2026\, in observance of the New Year holiday. Normal hours will re
 sume on Friday\, January 2\, 2026.</li>\n</ul>\n<p>&nbsp\;</p>\n<ul>\n<li>
 The Management Office is closed Thursday\, January 1\, 2026\, and will be 
 closed through Friday\, January 2\, 2026\, in observance of the New Year h
 oliday. Normal hours will resume Monday\, January 5\, 2026\, at 9:00 am.</
 li>\n</ul>
DTSTART;TZID=America/New_York:20260101T000000
DTEND;TZID=America/New_York:20260101T235959
SUMMARY:Cameron Club Closed
URL:https://www.cameronstation.org/calendar/84-advisories/10068-cameron-clu
 b-closed
X-ALT-DESC;FMTTYPE=TEXT/HTML:<ul>\n<li>The Cameron Club&nbsp\;will be close
 d Thursday\, January 1\, 2026\, in observance of the New Year holiday. Nor
 mal hours will resume on Friday\, January 2\, 2026.</li>\n</ul>\n<p>&nbsp\
 ;</p>\n<ul>\n<li>The Management Office is closed Thursday\, January 1\, 20
 26\, and will be closed through Friday\, January 2\, 2026\, in observance 
 of the New Year holiday. Normal hours will resume Monday\, January 5\, 202
 6\, at 9:00 am.</li>\n</ul>
END:VEVENT
END:VCALENDAR
