BEGIN:VCALENDAR
VERSION:2.0
PRODID:-//https://www.cameronstation.org//NONSGML kigkonsult.se iCalcreator 2.41.71//
CALSCALE:GREGORIAN
METHOD:PUBLISH
UID:66643966-3530-4631-b362-346231336363
X-WR-CALNAME:JCal Pro Calendar
X-WR-CALDESC:Your online events calendar
X-WR-TIMEZONE:America/New_York
BEGIN:VTIMEZONE
TZID:America/New_York
TZUNTIL:20271107T060000Z
BEGIN:STANDARD
TZNAME:EST
DTSTART:20251102T020000
TZOFFSETFROM:-0400
TZOFFSETTO:-0500
RDATE:20261101T020000
END:STANDARD
BEGIN:DAYLIGHT
TZNAME:EDT
DTSTART:20260308T020000
TZOFFSETFROM:-0500
TZOFFSETTO:-0400
RDATE:20270314T020000
END:DAYLIGHT
END:VTIMEZONE
BEGIN:VEVENT
UID:20251106T183000UTC-9785U0uDuo@https://cameronstation.org/
DTSTAMP:20260423T225910Z
CATEGORIES:Fitness Center
DESCRIPTION:<p>Today's Pilates class has been cancelled. Normal schedule wi
 ll resume next week!&nbsp\;</p>
DTSTART;TZID=America/New_York:20260129T183000
DTEND;TZID=America/New_York:20260129T193000
SUMMARY:Pilates - Cancelled
URL:https://www.cameronstation.org/calendar/83-fitness-center/9982-pilates
X-ALT-DESC;FMTTYPE=TEXT/HTML:<p>Today's Pilates class has been cancelled. N
 ormal schedule will resume next week!&nbsp\;</p>
END:VEVENT
END:VCALENDAR
