BEGIN:VCALENDAR
VERSION:2.0
PRODID:-//https://www.cameronstation.org//NONSGML kigkonsult.se iCalcreator 2.41.71//
CALSCALE:GREGORIAN
METHOD:PUBLISH
UID:64643332-3639-4464-b230-323363636131
X-WR-CALNAME:JCal Pro Calendar
X-WR-CALDESC:Your online events calendar
X-WR-TIMEZONE:America/New_York
BEGIN:VTIMEZONE
TZID:America/New_York
TZUNTIL:20271107T060000Z
BEGIN:STANDARD
TZNAME:EST
DTSTART:20251102T020000
TZOFFSETFROM:-0400
TZOFFSETTO:-0500
RDATE:20261101T020000
END:STANDARD
BEGIN:DAYLIGHT
TZNAME:EDT
DTSTART:20260308T020000
TZOFFSETFROM:-0500
TZOFFSETTO:-0400
RDATE:20270314T020000
END:DAYLIGHT
END:VTIMEZONE
BEGIN:VEVENT
UID:20250107T083000UTC-4150BGHvUo@https://cameronstation.org/
DTSTAMP:20260423T211729Z
CATEGORIES:Fitness Center
DESCRIPTION:<div><strong>Yoga II (Complimentary) -&nbsp\;Moved to Multipurp
 ose Court</strong></div>\n<div>Due to the Special Election in the Great Ro
 om\, this yoga class will take palce in the Multipurporse Court.&nbsp\;</d
 iv>
DTSTART;TZID=America/New_York:20260210T083000
DTEND;TZID=America/New_York:20260210T093000
SUMMARY:Yoga II - Moved to Multipurpose Court
URL:https://www.cameronstation.org/calendar/83-fitness-center/9567-yoga-ii
X-ALT-DESC;FMTTYPE=TEXT/HTML:<div><strong>Yoga II (Complimentary) -&nbsp\;M
 oved to Multipurpose Court</strong></div>\n<div>Due to the Special Electio
 n in the Great Room\, this yoga class will take palce in the Multipurporse
  Court.&nbsp\;</div>
END:VEVENT
END:VCALENDAR
