BEGIN:VCALENDAR
VERSION:2.0
PRODID:-//https://www.cameronstation.org//NONSGML kigkonsult.se iCalcreator 2.41.71//
CALSCALE:GREGORIAN
METHOD:PUBLISH
UID:66303266-6336-4566-b863-366630646139
X-WR-CALNAME:JCal Pro Calendar
X-WR-CALDESC:Your online events calendar
X-WR-TIMEZONE:America/New_York
BEGIN:VTIMEZONE
TZID:America/New_York
TZUNTIL:20271107T060000Z
BEGIN:STANDARD
TZNAME:EST
DTSTART:20251102T020000
TZOFFSETFROM:-0400
TZOFFSETTO:-0500
RDATE:20261101T020000
END:STANDARD
BEGIN:DAYLIGHT
TZNAME:EDT
DTSTART:20260308T020000
TZOFFSETFROM:-0500
TZOFFSETTO:-0400
RDATE:20270314T020000
END:DAYLIGHT
END:VTIMEZONE
BEGIN:VEVENT
UID:20250518T103000UTC-2755MMXDzG@https://cameronstation.org/
DTSTAMP:20260424T121812Z
CATEGORIES:Fitness Center
DESCRIPTION:<p>The Cameron Club swimming pool soft opening will be Saturday
  and Sunday\, May 17 and 18\, 2025\, from 10:30 am to 8:30 pm.&nbsp\;</p>
 \n<p>The pool will remain closed Monday – Friday (May 19-23\, 2025) and of
 ficially open for the Summer 2025 Pool Season Saturday\, May 24\, 2025\, a
 t 10:30 am.&nbsp\;</p>\n<p><strong>Additionally\, the selected pool furnit
 ure has been ordered and will arrive on/around by July 2025. Management wi
 ll inform residents as to when the new pool furniture will be arranged.</s
 trong></p>\n<p><strong>Residents (and children) must have a valid Cameron 
 Station Facilities ID/ Mobile Badge to use the facilities.&nbsp\;Not havin
 g the current Facilities Card/Mobile ID\, may result in residents being tu
 rned away.&nbsp\;</strong></p>
DTSTART;TZID=America/New_York:20250518T103000
DTEND;TZID=America/New_York:20250518T203000
SUMMARY:Pool Soft Opening
URL:https://www.cameronstation.org/calendar/83-fitness-center/9113-2025-poo
 l-soft-opening
X-ALT-DESC;FMTTYPE=TEXT/HTML:<p>The Cameron Club swimming pool soft opening
  will be Saturday and Sunday\, May 17 and 18\, 2025\, from 10:30 am to 8:3
 0 pm.&nbsp\;</p>\n<p>The pool will remain closed Monday – Friday (May 19-2
 3\, 2025) and officially open for the Summer 2025 Pool Season Saturday\, M
 ay 24\, 2025\, at 10:30 am.&nbsp\;</p>\n<p><strong>Additionally\, the sele
 cted pool furniture has been ordered and will arrive on/around by July 202
 5. Management will inform residents as to when the new pool furniture will
  be arranged.</strong></p>\n<p><strong>Residents (and children) must have 
 a valid Cameron Station Facilities ID/ Mobile Badge to use the facilities.
 &nbsp\;Not having the current Facilities Card/Mobile ID\, may result in re
 sidents being turned away.&nbsp\;</strong></p>
END:VEVENT
END:VCALENDAR
