BEGIN:VCALENDAR
VERSION:2.0
PRODID:-//https://www.cameronstation.org//NONSGML kigkonsult.se iCalcreator 2.41.71//
CALSCALE:GREGORIAN
METHOD:PUBLISH
UID:64616436-6463-4932-b362-333465393939
X-WR-CALNAME:JCal Pro Calendar
X-WR-CALDESC:Your online events calendar
X-WR-TIMEZONE:America/New_York
BEGIN:VTIMEZONE
TZID:America/New_York
TZUNTIL:20271107T060000Z
BEGIN:STANDARD
TZNAME:EST
DTSTART:20251102T020000
TZOFFSETFROM:-0400
TZOFFSETTO:-0500
RDATE:20261101T020000
END:STANDARD
BEGIN:DAYLIGHT
TZNAME:EDT
DTSTART:20260308T020000
TZOFFSETFROM:-0500
TZOFFSETTO:-0400
RDATE:20270314T020000
END:DAYLIGHT
END:VTIMEZONE
BEGIN:VEVENT
UID:20250104T090000UTC-5373Fjs9Tv@https://cameronstation.org/
DTSTAMP:20260424T135852Z
CATEGORIES:Fitness Center
DESCRIPTION:<p><strong>Zumba&nbsp\;<strong>(Complimentary) - Saturday April
  26\, 2025 - Rescheduled to 3:00 pm - 4:00 pm.</strong></strong></p>
DTSTART;TZID=America/New_York:20250426T150000
DTEND;TZID=America/New_York:20250426T160000
SUMMARY:Zumba - Rescheduled to 3 PM!
URL:https://www.cameronstation.org/calendar/83-fitness-center/8982-zumba
X-ALT-DESC;FMTTYPE=TEXT/HTML:<p><strong>Zumba&nbsp\;<strong>(Complimentary)
  - Saturday April 26\, 2025 - Rescheduled to 3:00 pm - 4:00 pm.</strong></
 strong></p>
END:VEVENT
END:VCALENDAR
