BEGIN:VCALENDAR
VERSION:2.0
PRODID:-//https://www.cameronstation.org//NONSGML kigkonsult.se iCalcreator 2.41.71//
CALSCALE:GREGORIAN
METHOD:PUBLISH
UID:31633435-6336-4262-b439-616365396435
X-WR-CALNAME:JCal Pro Calendar
X-WR-CALDESC:Your online events calendar
X-WR-TIMEZONE:America/New_York
BEGIN:VTIMEZONE
TZID:America/New_York
TZUNTIL:20271107T060000Z
BEGIN:STANDARD
TZNAME:EST
DTSTART:20251102T020000
TZOFFSETFROM:-0400
TZOFFSETTO:-0500
RDATE:20261101T020000
END:STANDARD
BEGIN:DAYLIGHT
TZNAME:EDT
DTSTART:20260308T020000
TZOFFSETFROM:-0500
TZOFFSETTO:-0400
RDATE:20270314T020000
END:DAYLIGHT
END:VTIMEZONE
BEGIN:VEVENT
UID:20250106T183000UTC-1110oKfAAv@https://cameronstation.org/
DTSTAMP:20260424T053948Z
CATEGORIES:Fitness Center
DESCRIPTION:<p><strong>Vinyasa Flow Yoga (Complimentary) – Mondays 6:30 pm 
 – 7:30 pm – This class will be held in the Multipurpose Court.&nbsp\;</str
 ong></p>\n<p>Vinyasa yoga\, in which movement is synchronized to the breat
 h\, is a term that covers a broad range of yoga classes. This style is som
 etimes also called flow yoga\, because of the smooth way that the poses ru
 n together and become like a dance.</p>\n<p>The breath acts as an anchor t
 o the movement as you flow from one pose to the next in time with an inhal
 e or an exhale.</p>
DTSTART;TZID=America/New_York:20250922T183000
DTEND;TZID=America/New_York:20250922T193000
SUMMARY:Vinyasa Flow Yoga - Moved to Multipurpose Court
URL:https://www.cameronstation.org/calendar/83-fitness-center/8941-vinyasa-
 flow-yoga
X-ALT-DESC;FMTTYPE=TEXT/HTML:<p><strong>Vinyasa Flow Yoga (Complimentary) –
  Mondays 6:30 pm – 7:30 pm – This class will be held in the Multipurpose C
 ourt.&nbsp\;</strong></p>\n<p>Vinyasa yoga\, in which movement is synchron
 ized to the breath\, is a term that covers a broad range of yoga classes. 
 This style is sometimes also called flow yoga\, because of the smooth way 
 that the poses run together and become like a dance.</p>\n<p>The breath ac
 ts as an anchor to the movement as you flow from one pose to the next in t
 ime with an inhale or an exhale.</p>
END:VEVENT
END:VCALENDAR
