BEGIN:VCALENDAR
VERSION:2.0
PRODID:-//https://www.cameronstation.org//NONSGML kigkonsult.se iCalcreator 2.41.71//
CALSCALE:GREGORIAN
METHOD:PUBLISH
UID:32306234-3964-4238-b734-353063626364
X-WR-CALNAME:JCal Pro Calendar
X-WR-CALDESC:Your online events calendar
X-WR-TIMEZONE:America/New_York
BEGIN:VTIMEZONE
TZID:America/New_York
TZUNTIL:20271107T060000Z
BEGIN:STANDARD
TZNAME:EST
DTSTART:20251102T020000
TZOFFSETFROM:-0400
TZOFFSETTO:-0500
RDATE:20261101T020000
END:STANDARD
BEGIN:DAYLIGHT
TZNAME:EDT
DTSTART:20260308T020000
TZOFFSETFROM:-0500
TZOFFSETTO:-0400
RDATE:20270314T020000
END:DAYLIGHT
END:VTIMEZONE
BEGIN:VEVENT
UID:20250108T183000UTC-9044DSvv86@https://cameronstation.org/
DTSTAMP:20260424T041221Z
CATEGORIES:Fitness Center
DESCRIPTION:<p><strong>PomSquad Canceled&nbsp\;- Zumba at 6:30 pm - Multipu
 rpose Court</strong></p>\n<p>It's fun and effective\, using interval train
 ing combining fast and slow rhythms for an effective aerobic workout while
  at the same time targeting your legs\, abs\, glutes and arms.&nbsp\;The w
 orkout is watch and follow. The moves are repeated often enough for you to
  catch on and they're not complicated. The routines are repeated week afte
 r week with additions every now and then to spice things up even more!&nbs
 p\;Zumba combines high energy and motivating music with unique moves and c
 ombinations that allow the Zumba participants to dance away their worries.
  It is based on the principle that a workout should be 'FUN AND EASY TO DO
 ' for Zumba participants to stick to the Zumba fitness program to achieve 
 long-term health benefits. Zumba is not only great for the body\, but it i
 s also great for the mind!</p>
DTSTART;TZID=America/New_York:20251029T183000
DTEND;TZID=America/New_York:20251029T193000
SUMMARY:POMSQUAD Fitness Class Canceled for Zumba
URL:https://www.cameronstation.org/calendar/83-fitness-center/8528-pomsquad
 -fitness-class
X-ALT-DESC;FMTTYPE=TEXT/HTML:<p><strong>PomSquad Canceled&nbsp\;- Zumba at 
 6:30 pm - Multipurpose Court</strong></p>\n<p>It's fun and effective\, usi
 ng interval training combining fast and slow rhythms for an effective aero
 bic workout while at the same time targeting your legs\, abs\, glutes and 
 arms.&nbsp\;The workout is watch and follow. The moves are repeated often 
 enough for you to catch on and they're not complicated. The routines are r
 epeated week after week with additions every now and then to spice things 
 up even more!&nbsp\;Zumba combines high energy and motivating music with u
 nique moves and combinations that allow the Zumba participants to dance aw
 ay their worries. It is based on the principle that a workout should be 'F
 UN AND EASY TO DO' for Zumba participants to stick to the Zumba fitness pr
 ogram to achieve long-term health benefits. Zumba is not only great for th
 e body\, but it is also great for the mind!</p>
END:VEVENT
END:VCALENDAR
