BEGIN:VCALENDAR
VERSION:2.0
PRODID:-//https://www.cameronstation.org//NONSGML kigkonsult.se iCalcreator 2.41.71//
CALSCALE:GREGORIAN
METHOD:PUBLISH
UID:33376535-6239-4361-b466-646533613662
X-WR-CALNAME:JCal Pro Calendar
X-WR-CALDESC:Your online events calendar
X-WR-TIMEZONE:America/New_York
BEGIN:VTIMEZONE
TZID:America/New_York
TZUNTIL:20271107T060000Z
BEGIN:STANDARD
TZNAME:EST
DTSTART:20251102T020000
TZOFFSETFROM:-0400
TZOFFSETTO:-0500
RDATE:20261101T020000
END:STANDARD
BEGIN:DAYLIGHT
TZNAME:EDT
DTSTART:20260308T020000
TZOFFSETFROM:-0500
TZOFFSETTO:-0400
RDATE:20270314T020000
END:DAYLIGHT
END:VTIMEZONE
BEGIN:VEVENT
UID:20250108T183000UTC-9044DSvv86@https://cameronstation.org/
DTSTAMP:20260424T054031Z
CATEGORIES:Fitness Center
DESCRIPTION:<p><strong>Wednesday\,&nbsp\;September 17\, 2025 - There will b
 e no POMSQUAD Fitness Class\, instead there will be Zumba at 6:30 pm in th
 e Multipurpose Court.</strong></p>
DTSTART;TZID=America/New_York:20250917T183000
DTEND;TZID=America/New_York:20250917T193000
SUMMARY:POMSQUAD Fitness Class - Canceled for Zumba
URL:https://www.cameronstation.org/calendar/83-fitness-center/8522-pomsquad
 -fitness-class
X-ALT-DESC;FMTTYPE=TEXT/HTML:<p><strong>Wednesday\,&nbsp\;September 17\, 20
 25 - There will be no POMSQUAD Fitness Class\, instead there will be Zumba
  at 6:30 pm in the Multipurpose Court.</strong></p>
END:VEVENT
END:VCALENDAR
