BEGIN:VCALENDAR
VERSION:2.0
PRODID:-//https://www.cameronstation.org//NONSGML kigkonsult.se iCalcreator 2.41.71//
CALSCALE:GREGORIAN
METHOD:PUBLISH
UID:38663164-3462-4365-b436-303765363962
X-WR-CALNAME:JCal Pro Calendar
X-WR-CALDESC:Your online events calendar
X-WR-TIMEZONE:America/New_York
BEGIN:VTIMEZONE
TZID:America/New_York
TZUNTIL:20271107T060000Z
BEGIN:STANDARD
TZNAME:EST
DTSTART:20251102T020000
TZOFFSETFROM:-0400
TZOFFSETTO:-0500
RDATE:20261101T020000
END:STANDARD
BEGIN:DAYLIGHT
TZNAME:EDT
DTSTART:20260308T020000
TZOFFSETFROM:-0500
TZOFFSETTO:-0400
RDATE:20270314T020000
END:DAYLIGHT
END:VTIMEZONE
BEGIN:VEVENT
UID:20250108T183000UTC-9044DSvv86@https://cameronstation.org/
DTSTAMP:20260424T053943Z
CATEGORIES:Fitness Center
DESCRIPTION:<p><strong>POMSQUAD Fitness Class (Complimentary) -&nbsp\; Move
 d to 6:00 pm - 7:00 pm\, Cameron Station Blvd Gazebo</strong></p>\n<p>PomS
 quad Fitness Class will take place at 6:00PM -7:00PM to accommodate the Zo
 om Meeting with the CS Civic Association</p>
DTSTART;TZID=America/New_York:20250903T180000
DTEND;TZID=America/New_York:20250903T190000
SUMMARY:POMSQUAD Fitness Class - Moved to 6:00 pm
URL:https://www.cameronstation.org/calendar/83-fitness-center/8520-pomsquad
 -fitness-class
X-ALT-DESC;FMTTYPE=TEXT/HTML:<p><strong>POMSQUAD Fitness Class (Complimenta
 ry) -&nbsp\; Moved to 6:00 pm - 7:00 pm\, Cameron Station Blvd Gazebo</str
 ong></p>\n<p>PomSquad Fitness Class will take place at 6:00PM -7:00PM to a
 ccommodate the Zoom Meeting with the CS Civic Association</p>
END:VEVENT
END:VCALENDAR
