BEGIN:VCALENDAR
VERSION:2.0
PRODID:-//https://www.cameronstation.org//NONSGML kigkonsult.se iCalcreator 2.41.71//
CALSCALE:GREGORIAN
METHOD:PUBLISH
UID:34393136-6665-4865-a636-356636353233
X-WR-CALNAME:JCal Pro Calendar
X-WR-CALDESC:Your online events calendar
X-WR-TIMEZONE:America/New_York
BEGIN:VTIMEZONE
TZID:America/New_York
TZUNTIL:20271107T060000Z
BEGIN:STANDARD
TZNAME:EST
DTSTART:20251102T020000
TZOFFSETFROM:-0400
TZOFFSETTO:-0500
RDATE:20261101T020000
END:STANDARD
BEGIN:DAYLIGHT
TZNAME:EDT
DTSTART:20260308T020000
TZOFFSETFROM:-0500
TZOFFSETTO:-0400
RDATE:20270314T020000
END:DAYLIGHT
END:VTIMEZONE
BEGIN:VEVENT
UID:20250108T183000UTC-9044DSvv86@https://cameronstation.org/
DTSTAMP:20260424T171414Z
CATEGORIES:Fitness Center
DESCRIPTION:<p><strong>POMSQUAD is cancelled today and a Yoga Class will be
  provided\, instead.&nbsp\;</strong></p>\n<p><strong>Wednesday\, February 
 12\, 2025\, <strong>6:30pm - 7:30pm</strong>\, Victoria Hebert Great Room.
 &nbsp\;</strong></p>
DTSTART;TZID=America/New_York:20250212T183000
DTEND;TZID=America/New_York:20250212T193000
SUMMARY:POMSQUAD - Canceled for Yoga
URL:https://www.cameronstation.org/calendar/83-fitness-center/8491-pomsquad
 -fitness-class
X-ALT-DESC;FMTTYPE=TEXT/HTML:<p><strong>POMSQUAD is cancelled today and a Y
 oga Class will be provided\, instead.&nbsp\;</strong></p>\n<p><strong>Wedn
 esday\, February 12\, 2025\, <strong>6:30pm - 7:30pm</strong>\, Victoria H
 ebert Great Room.&nbsp\;</strong></p>
END:VEVENT
END:VCALENDAR
