BEGIN:VCALENDAR
VERSION:2.0
PRODID:-//https://www.cameronstation.org//NONSGML kigkonsult.se iCalcreator 2.41.71//
CALSCALE:GREGORIAN
METHOD:PUBLISH
UID:63356430-6161-4162-a439-396563656166
X-WR-CALNAME:JCal Pro Calendar
X-WR-CALDESC:Your online events calendar
X-WR-TIMEZONE:America/New_York
BEGIN:VTIMEZONE
TZID:America/New_York
TZUNTIL:20271107T060000Z
BEGIN:STANDARD
TZNAME:EST
DTSTART:20251102T020000
TZOFFSETFROM:-0400
TZOFFSETTO:-0500
RDATE:20261101T020000
END:STANDARD
BEGIN:DAYLIGHT
TZNAME:EDT
DTSTART:20260308T020000
TZOFFSETFROM:-0500
TZOFFSETTO:-0400
RDATE:20270314T020000
END:DAYLIGHT
END:VTIMEZONE
BEGIN:VEVENT
UID:20241127T090000UTC-7814eGKLUr@https://cameronstation.org/
DTSTAMP:20260424T223745Z
CATEGORIES:Fitness Center
DESCRIPTION:<p><strong>&nbsp\;Cameron Club Holiday Hours</strong></p>\n<ul>
 \n<li>The Cameron Club/Fitness Center will be&nbsp\;<strong>closing at 6:0
 0 pm on Wednesday\, November 27\, 2024\, and will be closed Thursday\, Nov
 ember 28\, 2024.</strong>&nbsp\;Normal hours will resume on Friday\, Novem
 ber 29\, 2024.</li>\n</ul>
DTSTART;TZID=America/New_York:20241127T000000
DTEND;TZID=America/New_York:20241127T235959
SUMMARY:Cameron Club Closing Early!
URL:https://www.cameronstation.org/calendar/83-fitness-center/7923-cameron-
 club-closing-early
X-ALT-DESC;FMTTYPE=TEXT/HTML:<p><strong>&nbsp\;Cameron Club Holiday Hours</
 strong></p>\n<ul>\n<li>The Cameron Club/Fitness Center will be&nbsp\;<stro
 ng>closing at 6:00 pm on Wednesday\, November 27\, 2024\, and will be clos
 ed Thursday\, November 28\, 2024.</strong>&nbsp\;Normal hours will resume 
 on Friday\, November 29\, 2024.</li>\n</ul>
END:VEVENT
END:VCALENDAR
