BEGIN:VCALENDAR
VERSION:2.0
PRODID:-//https://www.cameronstation.org//NONSGML kigkonsult.se iCalcreator 2.41.71//
CALSCALE:GREGORIAN
METHOD:PUBLISH
UID:35376266-6331-4439-a435-383034653366
X-WR-CALNAME:JCal Pro Calendar
X-WR-CALDESC:Your online events calendar
X-WR-TIMEZONE:America/New_York
BEGIN:VTIMEZONE
TZID:America/New_York
TZUNTIL:20271107T060000Z
BEGIN:STANDARD
TZNAME:EST
DTSTART:20251102T020000
TZOFFSETFROM:-0400
TZOFFSETTO:-0500
RDATE:20261101T020000
END:STANDARD
BEGIN:DAYLIGHT
TZNAME:EDT
DTSTART:20260308T020000
TZOFFSETFROM:-0500
TZOFFSETTO:-0400
RDATE:20270314T020000
END:DAYLIGHT
END:VTIMEZONE
BEGIN:VEVENT
UID:20240110T183000EST-8443jr94dp@https://cameronstation.org/
DTSTAMP:20260424T215334Z
CATEGORIES:Fitness Center
DESCRIPTION:<p><strong>Wednesday\,&nbsp\;December&nbsp\;18\, 2024 - There w
 ill be no POMSQUAD Fitness Class\, instead there will be Yoga at 6:30 pm i
 n the Multipurpose Court</strong></p>
DTSTART;TZID=America/New_York:20241218T183000
DTEND;TZID=America/New_York:20241218T193000
SUMMARY:POMSQUAD Fitness Class - Canceled - Yoga in the Multipurpose Court
URL:https://www.cameronstation.org/calendar/83-fitness-center/7635-pom-pom-
 class
X-ALT-DESC;FMTTYPE=TEXT/HTML:<p><strong>Wednesday\,&nbsp\;December&nbsp\;18
 \, 2024 - There will be no POMSQUAD Fitness Class\, instead there will be 
 Yoga at 6:30 pm in the Multipurpose Court</strong></p>
END:VEVENT
END:VCALENDAR
