BEGIN:VCALENDAR
VERSION:2.0
PRODID:-//https://www.cameronstation.org//NONSGML kigkonsult.se iCalcreator 2.41.71//
CALSCALE:GREGORIAN
METHOD:PUBLISH
UID:33653231-3466-4230-b339-656632346630
X-WR-CALNAME:JCal Pro Calendar
X-WR-CALDESC:Your online events calendar
X-WR-TIMEZONE:America/New_York
BEGIN:VTIMEZONE
TZID:America/New_York
TZUNTIL:20271107T060000Z
BEGIN:STANDARD
TZNAME:EST
DTSTART:20251102T020000
TZOFFSETFROM:-0400
TZOFFSETTO:-0500
RDATE:20261101T020000
END:STANDARD
BEGIN:DAYLIGHT
TZNAME:EDT
DTSTART:20260308T020000
TZOFFSETFROM:-0500
TZOFFSETTO:-0400
RDATE:20270314T020000
END:DAYLIGHT
END:VTIMEZONE
BEGIN:VEVENT
UID:20240929T103000UTC-90166JU15U@https://cameronstation.org/
DTSTAMP:20260425T040256Z
CATEGORIES:Fitness Center
DESCRIPTION:<p><strong>The last day of the pool season is Sunday\, Septembe
 r 29\, 2024.</strong></p>
DTSTART;TZID=America/New_York:20240929T103000
DTEND;TZID=America/New_York:20240929T203000
SUMMARY:Last Day of Pool Season!
URL:https://www.cameronstation.org/calendar/83-fitness-center/7363-last-day
 -of-pool-season
X-ALT-DESC;FMTTYPE=TEXT/HTML:<p><strong>The last day of the pool season is 
 Sunday\, September 29\, 2024.</strong></p>
END:VEVENT
END:VCALENDAR
