BEGIN:VCALENDAR
VERSION:2.0
PRODID:-//https://www.cameronstation.org//NONSGML kigkonsult.se iCalcreator 2.41.71//
CALSCALE:GREGORIAN
METHOD:PUBLISH
UID:36373538-3130-4466-b461-396533353363
X-WR-CALNAME:JCal Pro Calendar
X-WR-CALDESC:Your online events calendar
X-WR-TIMEZONE:America/New_York
BEGIN:VTIMEZONE
TZID:America/New_York
TZUNTIL:20271107T060000Z
BEGIN:STANDARD
TZNAME:EST
DTSTART:20251102T020000
TZOFFSETFROM:-0400
TZOFFSETTO:-0500
RDATE:20261101T020000
END:STANDARD
BEGIN:DAYLIGHT
TZNAME:EDT
DTSTART:20260308T020000
TZOFFSETFROM:-0500
TZOFFSETTO:-0400
RDATE:20270314T020000
END:DAYLIGHT
END:VTIMEZONE
BEGIN:VEVENT
UID:20240221T183000UTC-0554aiUHWV@https://cameronstation.org/
DTSTAMP:20260425T101723Z
CATEGORIES:Fitness Center
DESCRIPTION:<p>Pilates: Stretch and Breathe&nbsp\;</p>\n<p>Every Wednesday\
 , 6:30 - 7:30 PM&nbsp\;</p>\n<p>Victoria Hebert Great Room&nbsp\;</p>
DTSTART;TZID=America/New_York:20240221T183000
DTEND;TZID=America/New_York:20240221T193000
RRULE:FREQ=WEEKLY;UNTIL=20240904T040000Z;INTERVAL=1;BYDAY=WE
SUMMARY:Pilates
URL:https://www.cameronstation.org/calendar/83-fitness-center/6674-pilates
X-ALT-DESC;FMTTYPE=TEXT/HTML:<p>Pilates: Stretch and Breathe&nbsp\;</p>\n<p
 >Every Wednesday\, 6:30 - 7:30 PM&nbsp\;</p>\n<p>Victoria Hebert Great Roo
 m&nbsp\;</p>
END:VEVENT
END:VCALENDAR
