BEGIN:VCALENDAR
VERSION:2.0
PRODID:-//https://www.cameronstation.org//NONSGML kigkonsult.se iCalcreator 2.41.71//
CALSCALE:GREGORIAN
METHOD:PUBLISH
UID:63373064-3230-4339-a138-393931323630
X-WR-CALNAME:JCal Pro Calendar
X-WR-CALDESC:Your online events calendar
X-WR-TIMEZONE:America/New_York
BEGIN:VTIMEZONE
TZID:America/New_York
TZUNTIL:20271107T060000Z
BEGIN:STANDARD
TZNAME:EST
DTSTART:20251102T020000
TZOFFSETFROM:-0400
TZOFFSETTO:-0500
RDATE:20261101T020000
END:STANDARD
BEGIN:DAYLIGHT
TZNAME:EDT
DTSTART:20260308T020000
TZOFFSETFROM:-0500
TZOFFSETTO:-0400
RDATE:20270314T020000
END:DAYLIGHT
END:VTIMEZONE
BEGIN:VEVENT
UID:20241005T090000UTC-3563AVl3fS@https://cameronstation.org/
DTSTAMP:20260425T010606Z
CATEGORIES:Fitness Center
DESCRIPTION:<p><strong><strong>(Complimentary) - Saturdays&nbsp\;</strong>9
 :00 am- 10:00 am -&nbsp\;Multipurpose Court</strong></p>\n<p>Saturday\, Oc
 tober 19\, 2024 - No Zumba Class\, PomSquad FItness will be offered instea
 d at 9:00 AM in the Multipurpose Court.&nbsp\;</p>
DTSTART;TZID=America/New_York:20241019T090000
DTEND;TZID=America/New_York:20241019T100000
SUMMARY:Zumba Class Cancelled for POMSQUAD Fitness Class
URL:https://www.cameronstation.org/calendar/83-fitness-center/7224-zumba
X-ALT-DESC;FMTTYPE=TEXT/HTML:<p><strong><strong>(Complimentary) - Saturdays
 &nbsp\;</strong>9:00 am- 10:00 am -&nbsp\;Multipurpose Court</strong></p>
 \n<p>Saturday\, October 19\, 2024 - No Zumba Class\, PomSquad FItness will
  be offered instead at 9:00 AM in the Multipurpose Court.&nbsp\;</p>
END:VEVENT
END:VCALENDAR
