BEGIN:VCALENDAR
VERSION:2.0
PRODID:-//https://www.cameronstation.org//NONSGML kigkonsult.se iCalcreator 2.41.71//
CALSCALE:GREGORIAN
METHOD:PUBLISH
UID:64343538-3762-4339-a137-363361643233
X-WR-CALNAME:JCal Pro Calendar
X-WR-CALDESC:Your online events calendar
X-WR-TIMEZONE:America/New_York
BEGIN:VTIMEZONE
TZID:America/New_York
TZUNTIL:20271107T060000Z
BEGIN:STANDARD
TZNAME:EST
DTSTART:20251102T020000
TZOFFSETFROM:-0400
TZOFFSETTO:-0500
RDATE:20261101T020000
END:STANDARD
BEGIN:DAYLIGHT
TZNAME:EDT
DTSTART:20260308T020000
TZOFFSETFROM:-0500
TZOFFSETTO:-0400
RDATE:20270314T020000
END:DAYLIGHT
END:VTIMEZONE
BEGIN:VEVENT
UID:20240221T183000UTC-0554aiUHWV@https://cameronstation.org/
DTSTAMP:20260425T115342Z
CATEGORIES:Fitness Center
DESCRIPTION:<p>Pilates: Stretch and Breathe&nbsp\;</p>\n<p>Every Wednesday\
 , 6:30 - 7:30 PM&nbsp\;</p>\n<p><span style='color: #ff0000\;'><strong>Thi
 s class will be held in the Henderson Room on the second floor of the Came
 ron Club.&nbsp\;</strong></span></p>
DTSTART;TZID=America/New_York:20240327T183000
DTEND;TZID=America/New_York:20240327T193000
SUMMARY:Pilates
URL:https://www.cameronstation.org/calendar/83-fitness-center/6722-pilates
X-ALT-DESC;FMTTYPE=TEXT/HTML:<p>Pilates: Stretch and Breathe&nbsp\;</p>\n<p
 >Every Wednesday\, 6:30 - 7:30 PM&nbsp\;</p>\n<p><span style='color: #ff00
 00\;'><strong>This class will be held in the Henderson Room on the second 
 floor of the Cameron Club.&nbsp\;</strong></span></p>
END:VEVENT
END:VCALENDAR
