BEGIN:VCALENDAR
VERSION:2.0
PRODID:-//https://www.cameronstation.org//NONSGML kigkonsult.se iCalcreator 2.41.71//
CALSCALE:GREGORIAN
METHOD:PUBLISH
UID:63356264-6635-4938-b030-333530363530
X-WR-CALNAME:JCal Pro Calendar
X-WR-CALDESC:Your online events calendar
X-WR-TIMEZONE:America/New_York
BEGIN:VTIMEZONE
TZID:America/New_York
TZUNTIL:20271107T060000Z
BEGIN:STANDARD
TZNAME:EST
DTSTART:20251102T020000
TZOFFSETFROM:-0400
TZOFFSETTO:-0500
RDATE:20261101T020000
END:STANDARD
BEGIN:DAYLIGHT
TZNAME:EDT
DTSTART:20260308T020000
TZOFFSETFROM:-0500
TZOFFSETTO:-0400
RDATE:20270314T020000
END:DAYLIGHT
END:VTIMEZONE
BEGIN:VEVENT
UID:20251021T193000UTC-9206iKmefa@https://cameronstation.org/
DTSTAMP:20260424T040600Z
CATEGORIES:CSCA Event Calendar
DESCRIPTION:<p>Volunteers are needed to help fill goody bags on Tuesday\, O
 ctober 21\, 2025\, at 7:30 pm\, in the Victoria Hebert Great Room.&nbsp\;P
 lease email&nbsp\;<a href='mailto:events@cameronstation.org' title='mailto
 :&lt\;a href='>events@cameronstation.org</a>&nbsp\;for any questions!</p>
DTSTART;TZID=America/New_York:20251021T193000
DTEND;TZID=America/New_York:20251021T193000
SUMMARY:Help Needed! Fill Goody Bags for Halloween Event! 
URL:https://www.cameronstation.org/calendar/68-csca-event-calendar/9306-hel
 p-needed-fill-goody-bags-for-halloween-event
X-ALT-DESC;FMTTYPE=TEXT/HTML:<p>Volunteers are needed to help fill goody ba
 gs on Tuesday\, October 21\, 2025\, at 7:30 pm\, in the Victoria Hebert Gr
 eat Room.&nbsp\;Please email&nbsp\;<a href='mailto:events@cameronstation.o
 rg' title='mailto:&lt\;a href='>events@cameronstation.org</a>&nbsp\;for an
 y questions!</p>
END:VEVENT
END:VCALENDAR
