BEGIN:VCALENDAR
VERSION:2.0
PRODID:-//https://www.cameronstation.org//NONSGML kigkonsult.se iCalcreator 2.41.71//
CALSCALE:GREGORIAN
METHOD:PUBLISH
UID:39613431-3732-4137-b539-366133666532
X-WR-CALNAME:JCal Pro Calendar
X-WR-CALDESC:Your online events calendar
X-WR-TIMEZONE:America/New_York
BEGIN:VTIMEZONE
TZID:America/New_York
TZUNTIL:20271107T060000Z
BEGIN:STANDARD
TZNAME:EST
DTSTART:20251102T020000
TZOFFSETFROM:-0400
TZOFFSETTO:-0500
RDATE:20261101T020000
END:STANDARD
BEGIN:DAYLIGHT
TZNAME:EDT
DTSTART:20260308T020000
TZOFFSETFROM:-0500
TZOFFSETTO:-0400
RDATE:20270314T020000
END:DAYLIGHT
END:VTIMEZONE
BEGIN:VEVENT
UID:20251015T190000UTC-661340nuwJ@https://cameronstation.org/
DTSTAMP:20260424T041109Z
CATEGORIES:CSCA Event Calendar
DESCRIPTION:<p>“Meet the Candidates” Night has been rescheduled for Wednesd
 ay\, October 15\, 2025\, at 7:00 PM. More information to come!</p>
DTSTART;TZID=America/New_York:20251015T190000
DTEND;TZID=America/New_York:20251015T190000
SUMMARY:Meet the Candidates Night
URL:https://www.cameronstation.org/calendar/68-csca-event-calendar/9236-mee
 t-the-candidates-night
X-ALT-DESC;FMTTYPE=TEXT/HTML:<p>“Meet the Candidates” Night has been resche
 duled for Wednesday\, October 15\, 2025\, at 7:00 PM. More information to 
 come!</p>
END:VEVENT
END:VCALENDAR
