BEGIN:VCALENDAR
VERSION:2.0
PRODID:-//https://www.cameronstation.org//NONSGML kigkonsult.se iCalcreator 2.41.71//
CALSCALE:GREGORIAN
METHOD:PUBLISH
UID:62363030-3539-4538-b961-393665653736
X-WR-CALNAME:JCal Pro Calendar
X-WR-CALDESC:Your online events calendar
X-WR-TIMEZONE:America/New_York
BEGIN:VTIMEZONE
TZID:America/New_York
TZUNTIL:20271107T060000Z
BEGIN:STANDARD
TZNAME:EST
DTSTART:20251102T020000
TZOFFSETFROM:-0400
TZOFFSETTO:-0500
RDATE:20261101T020000
END:STANDARD
BEGIN:DAYLIGHT
TZNAME:EDT
DTSTART:20260308T020000
TZOFFSETFROM:-0500
TZOFFSETTO:-0400
RDATE:20270314T020000
END:DAYLIGHT
END:VTIMEZONE
BEGIN:VEVENT
UID:20250426T130000UTC-2748GmlJ7d@https://cameronstation.org/
DTSTAMP:20260424T135851Z
CATEGORIES:CSCA Event Calendar
DESCRIPTION:<p><strong>Goodwill Truck Returning to Cameron Station - Saturd
 ay\, April 26\, 2025</strong></p>\n<p>Goodwill of Greater Washington will 
 be hosting another Donation Drive in the Cameron Club Parking Lot\, Saturd
 ay\, April 26\, 2025\, 1:00 pm to 3:00 pm. Donate your gently used clothin
 g and household goods to help support Goodwill's training programs and ser
 vices. Other items that can be donated include:</p>\n<ul>\n<li>Books</li>
 \n<li>Appliances</li>\n<li>Electronics</li>\n<li>Computers</li>\n<li>CDs &
 amp\; DVDs</li>\n<li>Video Games</li>\n</ul>\n<p><strong>Earlier this year
 \, Cameron Station donated 4\,826 pounds of gently used items!&nbsp\;</str
 ong>For more information\, please contact the coordinator\, Carolyn Becker
 \, at <a href='mailto:carolyn.becker@dcgoodwill.org'></a><a href='mailto:c
 arolyn.becker@dcgoodwill.org'>carolyn.becker@dcgoodwill.org</a>.</p>
DTSTART;TZID=America/New_York:20250426T130000
DTEND;TZID=America/New_York:20250426T150000
SUMMARY:Goodwill Truck at Cameron Station
URL:https://www.cameronstation.org/calendar/68-csca-event-calendar/9104-goo
 dwill-truck-at-cameron-station
X-ALT-DESC;FMTTYPE=TEXT/HTML:<p><strong>Goodwill Truck Returning to Cameron
  Station - Saturday\, April 26\, 2025</strong></p>\n<p>Goodwill of Greater
  Washington will be hosting another Donation Drive in the Cameron Club Par
 king Lot\, Saturday\, April 26\, 2025\, 1:00 pm to 3:00 pm. Donate your ge
 ntly used clothing and household goods to help support Goodwill's training
  programs and services. Other items that can be donated include:</p>\n<ul>
 \n<li>Books</li>\n<li>Appliances</li>\n<li>Electronics</li>\n<li>Computers
 </li>\n<li>CDs &amp\; DVDs</li>\n<li>Video Games</li>\n</ul>\n<p><strong>E
 arlier this year\, Cameron Station donated 4\,826 pounds of gently used it
 ems!&nbsp\;</strong>For more information\, please contact the coordinator\
 , Carolyn Becker\, at <a href='mailto:carolyn.becker@dcgoodwill.org'></a><
 a href='mailto:carolyn.becker@dcgoodwill.org'>carolyn.becker@dcgoodwill.or
 g</a>.</p>
END:VEVENT
END:VCALENDAR
