BEGIN:VCALENDAR
VERSION:2.0
PRODID:-//https://www.cameronstation.org//NONSGML kigkonsult.se iCalcreator 2.41.71//
CALSCALE:GREGORIAN
METHOD:PUBLISH
UID:31363065-6438-4164-a362-613135343231
X-WR-CALNAME:JCal Pro Calendar
X-WR-CALDESC:Your online events calendar
X-WR-TIMEZONE:America/New_York
BEGIN:VTIMEZONE
TZID:America/New_York
TZUNTIL:20271107T060000Z
BEGIN:STANDARD
TZNAME:EST
DTSTART:20251102T020000
TZOFFSETFROM:-0400
TZOFFSETTO:-0500
RDATE:20261101T020000
END:STANDARD
BEGIN:DAYLIGHT
TZNAME:EDT
DTSTART:20260308T020000
TZOFFSETFROM:-0500
TZOFFSETTO:-0400
RDATE:20270314T020000
END:DAYLIGHT
END:VTIMEZONE
BEGIN:VEVENT
UID:20250317T080000UTC-4808itpwzV@https://cameronstation.org/
DTSTAMP:20260424T153535Z
CATEGORIES:CSCA Event Calendar
DESCRIPTION:<p>Aeration and seeding is scheduled for Monday\, March 17\, 20
 25.&nbsp\;Lancaster will perform the aeration and seeding process along Ca
 meron Station Blvd. and in common areas\, shown on the attached <strong><s
 pan style='text-decoration: underline\;'><a href='https://files.constantco
 ntact.com/54aef372401/f94f8267-9e1f-4953-b370-d9254b251832.pdf?_gl=1*xwtpe
 f*_ga*NzI2OTQ3ODUuMTc0MTI5NDc5OA..*_ga_14T5LGLSQ3*MTc0MTI5NDc5OC4xLjEuMTc0
 MTI5NTg1MC40Ny4wLjA.' target='_blank' rel='noopener noreferrer' data-link-
 type='document'>map</a></span></strong>.</p>
DTSTART;TZID=America/New_York:20250317T000000
DTEND;TZID=America/New_York:20250317T235959
SUMMARY:Aeration & Seeding
URL:https://www.cameronstation.org/calendar/68-csca-event-calendar/9062-aer
 ation-seeding
X-ALT-DESC;FMTTYPE=TEXT/HTML:<p>Aeration and seeding is scheduled for Monda
 y\, March 17\, 2025.&nbsp\;Lancaster will perform the aeration and seeding
  process along Cameron Station Blvd. and in common areas\, shown on the at
 tached <strong><span style='text-decoration: underline\;'><a href='https:/
 /files.constantcontact.com/54aef372401/f94f8267-9e1f-4953-b370-d9254b25183
 2.pdf?_gl=1*xwtpef*_ga*NzI2OTQ3ODUuMTc0MTI5NDc5OA..*_ga_14T5LGLSQ3*MTc0MTI
 5NDc5OC4xLjEuMTc0MTI5NTg1MC40Ny4wLjA.' target='_blank' rel='noopener noref
 errer' data-link-type='document'>map</a></span></strong>.</p>
END:VEVENT
END:VCALENDAR
