BEGIN:VCALENDAR
VERSION:2.0
PRODID:-//https://www.cameronstation.org//NONSGML kigkonsult.se iCalcreator 2.41.71//
CALSCALE:GREGORIAN
METHOD:PUBLISH
UID:38613863-6539-4566-b334-373931623933
X-WR-CALNAME:JCal Pro Calendar
X-WR-CALDESC:Your online events calendar
X-WR-TIMEZONE:America/New_York
BEGIN:VTIMEZONE
TZID:America/New_York
TZUNTIL:20271107T060000Z
BEGIN:STANDARD
TZNAME:EST
DTSTART:20251102T020000
TZOFFSETFROM:-0400
TZOFFSETTO:-0500
RDATE:20261101T020000
END:STANDARD
BEGIN:DAYLIGHT
TZNAME:EDT
DTSTART:20260308T020000
TZOFFSETFROM:-0500
TZOFFSETTO:-0400
RDATE:20270314T020000
END:DAYLIGHT
END:VTIMEZONE
BEGIN:VEVENT
UID:20241104T190000UTC-0278sM8P1D@https://cameronstation.org/
DTSTAMP:20260425T000459Z
CATEGORIES:CSCA Event Calendar
DESCRIPTION:<p><strong>Cameron Station 2024 Annual Meeting Information</str
 ong></p>\n<p>The Cameron Station Annual Meeting will be held&nbsp\;<strong
 >Monday\, November 4\, 2024\, at 7:00 pm</strong>. The meeting will be hel
 d at the Cameron Club in the Victoria Hebert Great Room\; it will be condu
 cted in a hybrid format (Zoom and in-person). All voting will be conducted
  through Survey and Ballot Systems consisting of both paper and online bal
 loting options as was offered in 2023.&nbsp\;<span style='text-decoration:
  underline\;'><a href='resident-services/board-committees/board-of-directo
 rs' target='_blank' rel='noopener noreferrer' data-link-type='web'>Click h
 ere</a></span>&nbsp\;for the meeting information and to register your atte
 ndance.</p>
DTSTART;TZID=America/New_York:20241104T190000
DTEND;TZID=America/New_York:20241104T200000
SUMMARY:Annual Meeting 2024
URL:https://www.cameronstation.org/calendar/68-csca-event-calendar/7639-ann
 ual-meeting-2024
X-ALT-DESC;FMTTYPE=TEXT/HTML:<p><strong>Cameron Station 2024 Annual Meeting
  Information</strong></p>\n<p>The Cameron Station Annual Meeting will be h
 eld&nbsp\;<strong>Monday\, November 4\, 2024\, at 7:00 pm</strong>. The me
 eting will be held at the Cameron Club in the Victoria Hebert Great Room\;
  it will be conducted in a hybrid format (Zoom and in-person). All voting 
 will be conducted through Survey and Ballot Systems consisting of both pap
 er and online balloting options as was offered in 2023.&nbsp\;<span style=
 'text-decoration: underline\;'><a href='resident-services/board-committees
 /board-of-directors' target='_blank' rel='noopener noreferrer' data-link-t
 ype='web'>Click here</a></span>&nbsp\;for the meeting information and to r
 egister your attendance.</p>
END:VEVENT
END:VCALENDAR
