BEGIN:VCALENDAR
VERSION:2.0
PRODID:-//https://www.cameronstation.org//NONSGML kigkonsult.se iCalcreator 2.41.71//
CALSCALE:GREGORIAN
METHOD:PUBLISH
UID:32653934-6261-4432-b761-323636356339
X-WR-CALNAME:JCal Pro Calendar
X-WR-CALDESC:Your online events calendar
X-WR-TIMEZONE:America/New_York
BEGIN:VTIMEZONE
TZID:America/New_York
TZUNTIL:20271107T060000Z
BEGIN:STANDARD
TZNAME:EST
DTSTART:20251102T020000
TZOFFSETFROM:-0400
TZOFFSETTO:-0500
RDATE:20261101T020000
END:STANDARD
BEGIN:DAYLIGHT
TZNAME:EDT
DTSTART:20260308T020000
TZOFFSETFROM:-0500
TZOFFSETTO:-0400
RDATE:20270314T020000
END:DAYLIGHT
END:VTIMEZONE
BEGIN:VEVENT
UID:20250320T180000UTC-2246AclKnT@https://cameronstation.org/
DTSTAMP:20260424T155309Z
CATEGORIES:Condo Association
DESCRIPTION:<p>The Condominiums at Cameron Station Blvd Board typically mee
 ts the third Monday of each month at 6:00 pm\, via a hybrid virtual confer
 ence using Zoom and in person in the Henderson Room on the 2nd Floor of th
 e Cameron Club building. <strong>This meeting has been rescheduled to Thur
 sday\, March 20\, 2025\, in the Victoria Hebert Great Room.</strong> See m
 eeting information below:&nbsp\;</p>\n<p>Meeting Link:&nbsp\;<span style='
 text-decoration: underline\;'><a href='https://nam10.safelinks.protection.
 outlook.com/?url=http%3A%2F%2Fmeet.google.com%2Fmuw-akmg-ywb&amp\;amp\;amp
 \;amp\;data=05%7C02%7Cglainez%40cmc-management.com%7C9dad9accecd2491beae40
 8dc12d6f222%7Cf482d66063e04ae4bb8a5f8e79b2b056%7C0%7C0%7C63840596164814447
 5%7CUnknown%7CTWFpbGZsb3d8eyJWIjoiMC4wLjAwMDAiLCJQIjoiV2luMzIiLCJBTiI6Ik1h
 aWwiLCJXVCI6Mn0%3D%7C3000%7C%7C%7C&amp\;amp\;amp\;amp\;sdata=J5Sdy2S8BOW%2
 FXQPGr4V2uP1%2Bsmy7N3ybtejDjqbQjRM%3D&amp\;amp\;amp\;amp\;reserved=0'>meet
 .google.com/muw-akmg-ywb</a><span></span></span></p>\n<p>Dial-in: (US) +1 
 319-343-8709 &nbsp\;&nbsp\;<br />PIN: 324 733 526# &nbsp\;&nbsp\;</p>
DTSTART;TZID=America/New_York:20250320T180000
DTEND;TZID=America/New_York:20250320T190000
SUMMARY:Condominiums at Cameron Station Blvd Board Meeting
URL:https://www.cameronstation.org/calendar/68-csca-event-calendar/75-condo
 -association/9088-condominiums-at-cameron-station-blvd-board-meeting
X-ALT-DESC;FMTTYPE=TEXT/HTML:<p>The Condominiums at Cameron Station Blvd Bo
 ard typically meets the third Monday of each month at 6:00 pm\, via a hybr
 id virtual conference using Zoom and in person in the Henderson Room on th
 e 2nd Floor of the Cameron Club building. <strong>This meeting has been re
 scheduled to Thursday\, March 20\, 2025\, in the Victoria Hebert Great Roo
 m.</strong> See meeting information below:&nbsp\;</p>\n<p>Meeting Link:&nb
 sp\;<span style='text-decoration: underline\;'><a href='https://nam10.safe
 links.protection.outlook.com/?url=http%3A%2F%2Fmeet.google.com%2Fmuw-akmg-
 ywb&amp\;amp\;amp\;amp\;data=05%7C02%7Cglainez%40cmc-management.com%7C9dad
 9accecd2491beae408dc12d6f222%7Cf482d66063e04ae4bb8a5f8e79b2b056%7C0%7C0%7C
 638405961648144475%7CUnknown%7CTWFpbGZsb3d8eyJWIjoiMC4wLjAwMDAiLCJQIjoiV2l
 uMzIiLCJBTiI6Ik1haWwiLCJXVCI6Mn0%3D%7C3000%7C%7C%7C&amp\;amp\;amp\;amp\;sd
 ata=J5Sdy2S8BOW%2FXQPGr4V2uP1%2Bsmy7N3ybtejDjqbQjRM%3D&amp\;amp\;amp\;amp\
 ;reserved=0'>meet.google.com/muw-akmg-ywb</a><span></span></span></p>\n<p>
 Dial-in: (US) +1 319-343-8709 &nbsp\;&nbsp\;<br />PIN: 324 733 526# &nbsp\
 ;&nbsp\;</p>
END:VEVENT
END:VCALENDAR
