BEGIN:VCALENDAR
VERSION:2.0
PRODID:-//https://www.cameronstation.org//NONSGML kigkonsult.se iCalcreator 2.41.71//
CALSCALE:GREGORIAN
METHOD:PUBLISH
UID:30666430-3337-4363-a438-306235356132
X-WR-CALNAME:JCal Pro Calendar
X-WR-CALDESC:Your online events calendar
X-WR-TIMEZONE:America/New_York
BEGIN:VTIMEZONE
TZID:America/New_York
TZUNTIL:20271107T060000Z
BEGIN:STANDARD
TZNAME:EST
DTSTART:20251102T020000
TZOFFSETFROM:-0400
TZOFFSETTO:-0500
RDATE:20261101T020000
END:STANDARD
BEGIN:DAYLIGHT
TZNAME:EDT
DTSTART:20260308T020000
TZOFFSETFROM:-0500
TZOFFSETTO:-0400
RDATE:20270314T020000
END:DAYLIGHT
END:VTIMEZONE
BEGIN:VEVENT
UID:20250121T190000UTC-3061EUGZWo@https://cameronstation.org/
DTSTAMP:20260424T090721Z
CATEGORIES:Condo Association
DESCRIPTION:<p>The Carlton Place Condominium Board typically meets the thir
 d Tuesday of each month at 7:00 pm\, via a hybrid virtual conference using
  Zoom and in person in the Henderson Room on the 2nd Floor of the Cameron 
 Club building. <strong>This meeting will be held virtually via Zoom.</stro
 ng> See meeting information below:&nbsp\;</p>\n<p>Join Zoom Meeting</p>\n<
 p><a href='https://us06web.zoom.us/j/83555968570?pwd=aQDWqj0O3aSGf9qF1dOED
 8bAYuEqhb.1'>https://us06web.zoom.us/j/83555968570?pwd=aQDWqj0O3aSGf9qF1dO
 ED8bAYuEqhb.1</a></p>\n<p>Meeting ID: 835 5596 8570</p>\n<p>Passcode: 7963
 20</p>
DTSTART;TZID=America/New_York:20250715T190000
DTEND;TZID=America/New_York:20250715T200000
SUMMARY:Carlton Place Condominium Virtual Board Meeting
URL:https://www.cameronstation.org/calendar/68-csca-event-calendar/75-condo
 -association/9082-carlton-place-condominium-board-meeting
X-ALT-DESC;FMTTYPE=TEXT/HTML:<p>The Carlton Place Condominium Board typical
 ly meets the third Tuesday of each month at 7:00 pm\, via a hybrid virtual
  conference using Zoom and in person in the Henderson Room on the 2nd Floo
 r of the Cameron Club building. <strong>This meeting will be held virtuall
 y via Zoom.</strong> See meeting information below:&nbsp\;</p>\n<p>Join Zo
 om Meeting</p>\n<p><a href='https://us06web.zoom.us/j/83555968570?pwd=aQDW
 qj0O3aSGf9qF1dOED8bAYuEqhb.1'>https://us06web.zoom.us/j/83555968570?pwd=aQ
 DWqj0O3aSGf9qF1dOED8bAYuEqhb.1</a></p>\n<p>Meeting ID: 835 5596 8570</p>\n
 <p>Passcode: 796320</p>
END:VEVENT
END:VCALENDAR
