BEGIN:VCALENDAR
VERSION:2.0
PRODID:-//https://www.cameronstation.org//NONSGML kigkonsult.se iCalcreator 2.41.71//
CALSCALE:GREGORIAN
METHOD:PUBLISH
UID:66363133-3439-4839-b466-633665663262
X-WR-CALNAME:JCal Pro Calendar
X-WR-CALDESC:Your online events calendar
X-WR-TIMEZONE:America/New_York
BEGIN:VTIMEZONE
TZID:America/New_York
TZUNTIL:20271107T060000Z
BEGIN:STANDARD
TZNAME:EST
DTSTART:20251102T020000
TZOFFSETFROM:-0400
TZOFFSETTO:-0500
RDATE:20261101T020000
END:STANDARD
BEGIN:DAYLIGHT
TZNAME:EDT
DTSTART:20260308T020000
TZOFFSETFROM:-0500
TZOFFSETTO:-0400
RDATE:20270314T020000
END:DAYLIGHT
END:VTIMEZONE
BEGIN:VEVENT
UID:20240327T180000UTC-3552ciZIFp@https://cameronstation.org/
DTSTAMP:20260425T115512Z
CATEGORIES:Condo Association
DESCRIPTION:<p>Victoria Hebert Great Room - 6:00 PM</p>
DTSTART;TZID=America/New_York:20240327T180000
DTEND;TZID=America/New_York:20240327T193000
SUMMARY:400 Cameron Station Condo Annual Meeting
URL:https://www.cameronstation.org/calendar/68-csca-event-calendar/75-condo
 -association/7027-residences-400-cameron-station-condo-annual-meeting
X-ALT-DESC;FMTTYPE=TEXT/HTML:<p>Victoria Hebert Great Room - 6:00 PM</p>
END:VEVENT
END:VCALENDAR
