BEGIN:VCALENDAR
VERSION:2.0
PRODID:-//https://www.cameronstation.org//NONSGML kigkonsult.se iCalcreator 2.41.71//
CALSCALE:GREGORIAN
METHOD:PUBLISH
UID:36653131-3837-4561-a631-643737363438
X-WR-CALNAME:JCal Pro Calendar
X-WR-CALDESC:Your online events calendar
X-WR-TIMEZONE:America/New_York
BEGIN:VTIMEZONE
TZID:America/New_York
TZUNTIL:20271107T060000Z
BEGIN:STANDARD
TZNAME:EST
DTSTART:20251102T020000
TZOFFSETFROM:-0400
TZOFFSETTO:-0500
RDATE:20261101T020000
END:STANDARD
BEGIN:DAYLIGHT
TZNAME:EDT
DTSTART:20260308T020000
TZOFFSETFROM:-0500
TZOFFSETTO:-0400
RDATE:20270314T020000
END:DAYLIGHT
END:VTIMEZONE
BEGIN:VEVENT
UID:20260210T183000UTC-2656vxfRU8@https://cameronstation.org/
DTSTAMP:20260423T195539Z
CATEGORIES:Condo Association
DTSTART;TZID=America/New_York:20260210T183000
DTEND;TZID=America/New_York:20260210T193000
RRULE:FREQ=MONTHLY;UNTIL=20261013T040000Z;INTERVAL=2;BYDAY=TU;BYSETPOS=2
SUMMARY:Oakland Hall Condominium Board Meeting
URL:https://www.cameronstation.org/calendar/68-csca-event-calendar/75-condo
 -association/10219-oakland-hall-condominium-board-meeting
END:VEVENT
END:VCALENDAR
