BEGIN:VCALENDAR
VERSION:2.0
PRODID:-//https://www.cameronstation.org//NONSGML kigkonsult.se iCalcreator 2.41.71//
CALSCALE:GREGORIAN
METHOD:PUBLISH
UID:34306339-3932-4465-b937-323832656536
X-WR-CALNAME:JCal Pro Calendar
X-WR-CALDESC:Your online events calendar
X-WR-TIMEZONE:America/New_York
BEGIN:VTIMEZONE
TZID:America/New_York
TZUNTIL:20271107T060000Z
BEGIN:STANDARD
TZNAME:EST
DTSTART:20251102T020000
TZOFFSETFROM:-0400
TZOFFSETTO:-0500
RDATE:20261101T020000
END:STANDARD
BEGIN:DAYLIGHT
TZNAME:EDT
DTSTART:20260308T020000
TZOFFSETFROM:-0500
TZOFFSETTO:-0400
RDATE:20270314T020000
END:DAYLIGHT
END:VTIMEZONE
BEGIN:VEVENT
UID:20260126T183000UTC-86985uW0pk@https://cameronstation.org/
DTSTAMP:20260423T180947Z
CATEGORIES:Condo Association
DTSTART;TZID=America/New_York:20261116T183000
DTEND;TZID=America/New_York:20261116T193000
SUMMARY:Condos at Cameron Station Blvd- Annual Meeting
URL:https://www.cameronstation.org/calendar/68-csca-event-calendar/75-condo
 -association/10217-condos-at-cameron-station-blvd
END:VEVENT
END:VCALENDAR
