BEGIN:VCALENDAR
VERSION:2.0
PRODID:-//https://www.cameronstation.org//NONSGML kigkonsult.se iCalcreator 2.41.71//
CALSCALE:GREGORIAN
METHOD:PUBLISH
UID:66326538-3133-4365-a337-613534393633
X-WR-CALNAME:JCal Pro Calendar
X-WR-CALDESC:Your online events calendar
X-WR-TIMEZONE:America/New_York
BEGIN:VTIMEZONE
TZID:America/New_York
TZUNTIL:20271107T060000Z
BEGIN:STANDARD
TZNAME:EST
DTSTART:20251102T020000
TZOFFSETFROM:-0400
TZOFFSETTO:-0500
RDATE:20261101T020000
END:STANDARD
BEGIN:DAYLIGHT
TZNAME:EDT
DTSTART:20260308T020000
TZOFFSETFROM:-0500
TZOFFSETTO:-0400
RDATE:20270314T020000
END:DAYLIGHT
END:VTIMEZONE
BEGIN:VEVENT
UID:20250113T190000UTC-47319umTpv@https://cameronstation.org/
DTSTAMP:20260424T135209Z
CATEGORIES:Board & Committee Meetings
DESCRIPTION:<p><strong>The Common Area Committee meeting has been cancelled
 .</strong> The next meeting will be held Monday\, May 12\, 2025\, at 7:00 
 pm. <a href='https://www.cameronstation.org/resident-services/board-commit
 tees/common-area-committee'>Click here</a> for more information.&nbsp\;</p
 >
DTSTART;TZID=America/New_York:20250414T190000
DTEND;TZID=America/New_York:20250414T200000
SUMMARY:Common Area Committee Meeting - Cancelled
URL:https://www.cameronstation.org/calendar/68-csca-event-calendar/74-commi
 ttee-meetings/8960-common-area-committee-meeting
X-ALT-DESC;FMTTYPE=TEXT/HTML:<p><strong>The Common Area Committee meeting h
 as been cancelled.</strong> The next meeting will be held Monday\, May 12\
 , 2025\, at 7:00 pm. <a href='https://www.cameronstation.org/resident-serv
 ices/board-committees/common-area-committee'>Click here</a> for more infor
 mation.&nbsp\;</p>
END:VEVENT
END:VCALENDAR
